BEGIN:VCALENDAR
VERSION:2.0
PRODID:-//SQD Alliance - ECPv6.13.2.1//NONSGML v1.0//EN
CALSCALE:GREGORIAN
METHOD:PUBLISH
X-WR-CALNAME:SQD Alliance
X-ORIGINAL-URL:https://sqda.pl
X-WR-CALDESC:Wydarzenia dla SQD Alliance
REFRESH-INTERVAL;VALUE=DURATION:PT1H
X-Robots-Tag:noindex
X-PUBLISHED-TTL:PT1H
BEGIN:VTIMEZONE
TZID:Europe/Warsaw
BEGIN:DAYLIGHT
TZOFFSETFROM:+0100
TZOFFSETTO:+0200
TZNAME:CEST
DTSTART:20260329T010000
END:DAYLIGHT
BEGIN:STANDARD
TZOFFSETFROM:+0200
TZOFFSETTO:+0100
TZNAME:CET
DTSTART:20261025T010000
END:STANDARD
END:VTIMEZONE
BEGIN:VEVENT
DTSTART;TZID=Europe/Warsaw:20260420T090000
DTEND;TZID=Europe/Warsaw:20260423T160000
DTSTAMP:20260421T025144
CREATED:20251021T120147Z
LAST-MODIFIED:20260408T111621Z
UID:74688-1776675600-1776960000@sqda.pl
SUMMARY:VDA 6.3:2023 - Auditor procesu – kurs kwalifikacyjny (ID 381)
DESCRIPTION:Opis szkolenia\nRozwiązywanie problemów w branży motoryzacyjnej jest kluczem do właściwego działania organizacji w łańcuchach dostaw. Zapewnienie zgodnego wyrobu oraz skutecznie działających procesów jest jednak dużym wyzwaniem. Pojawiające się problemy wewnętrzne oraz sygnały od klienta o złej jakości wyrobów muszą być odpowiednio przetworzone w celu podjęcia skutecznych działań i eliminacji problemów na przyszłość. Metoda pozwalająca na nazwanie i opracowanie rozwiązań i skuteczne ich wdrożenie stosowana w branży motoryzacyjnej bazuje na standardzie CQI 20 grupy AIAG. Wraz z powiązanymi technikami analitycznymi (5 Why\, 5W2H\, Is/Is Not\, Ishikawa i inne) pozwala na przeanalizowanie źródłowych przyczyn problemów oraz ich usunięcie poprzez właściwe stosowanie efektywnego procesu rozwiązywania problemu. \n Grupa docelowa\nSzkolenie skierowane jest do pracowników odpowiedzialnych za rozwój\, produkcję\, zapewnienie jakości\, zarządzanie dostawcami\, obsługę klienta i nadzór nad reklamacjami\, auditorów systemu\, procesu wytwarzania czy auditorów wyrobu oraz do pracowników logistyki. \nZawartość\n\nŚwiadomość jakości.\nTechniki rozwiązywania problemów z uwzględnieniem metody 8D.\nOmówienie metody rozwiązywania problemów:\n\ncel\, zastosowanie\, zasady\, rozwinięcie kroków metodologii.\n\n\nNarzędzia jakości\, takie jak: Ishikawa\, 5 Why\, IS/IS NOT\, 5W2H.\nCase study.\n\nLiteratura\n\nIATF 16949.\nCQI 20.\n\nTest\nPo zakończonym szkoleniu przewidziany jest test pisemny dla uczestników\, weryfikujący nabytą wiedzę. \nPotwierdzenie kwalifikacji\nPo szkoleniu otrzymają Państwo eCertyfikat uczestnictwa SQD Alliance. \nEfekty kształcenia\n\nUmiejętność konstruktywnego i systematycznego podejścia do procesu analizy i skutecznej eliminacji problemów.\nZdobycie teoretycznej i praktycznej wiedzy na temat narzędzi służących rozwiązywaniu problemów.\nOpanowanie metodyki postępowania z problemem.\nUmiejętność opracowania raportu 8D.\nZrozumienie znaczenia funkcjonowania grupy interdyscyplinarnej.\n\nNa potrzeby klienta szkolenie w formie zamkniętej można rozszerzyć do formy dwudniowej o zagadnienia związane z m.in. A3\, QRQC \nSzkolenia powiązane(ID 9109) - Lider zespołów interdyscyplinarnychCena zawieraMateriały szkoleniowe w wersji PDF\, wydanie certyfikatu.
URL:https://sqda.pl/szkolenie/vda-6-32023-auditor-procesu-kurs-kwalifikacyjny-id-381-52/
LOCATION:Biuro SQD Alliance w Bielanach Wrocławskich\, Nektarowa 3\, Bielany Wrocławskie\, dolnośląskie\, 55-040
CATEGORIES:Auditowanie,Podręcznik gratis
ORGANIZER;CN="SQD Alliance - Szkolenia":MAILTO:szkolenia@sqda.pl
END:VEVENT
BEGIN:VEVENT
DTSTART;TZID=Europe/Warsaw:20260421T083000
DTEND;TZID=Europe/Warsaw:20260421T140000
DTSTAMP:20260421T025145
CREATED:20251205T134732Z
LAST-MODIFIED:20251205T134732Z
UID:75658-1776760200-1776780000@sqda.pl
SUMMARY:Nowoczesne metody pracy służb BHP. Psychologiczne przyczyny wypadków w pracy (ID 3217) - online
DESCRIPTION:Opis szkolenia\nRozwiązywanie problemów w branży motoryzacyjnej jest kluczem do właściwego działania organizacji w łańcuchach dostaw. Zapewnienie zgodnego wyrobu oraz skutecznie działających procesów jest jednak dużym wyzwaniem. Pojawiające się problemy wewnętrzne oraz sygnały od klienta o złej jakości wyrobów muszą być odpowiednio przetworzone w celu podjęcia skutecznych działań i eliminacji problemów na przyszłość. Metoda pozwalająca na nazwanie i opracowanie rozwiązań i skuteczne ich wdrożenie stosowana w branży motoryzacyjnej bazuje na standardzie CQI 20 grupy AIAG. Wraz z powiązanymi technikami analitycznymi (5 Why\, 5W2H\, Is/Is Not\, Ishikawa i inne) pozwala na przeanalizowanie źródłowych przyczyn problemów oraz ich usunięcie poprzez właściwe stosowanie efektywnego procesu rozwiązywania problemu. \n Grupa docelowa\nSzkolenie skierowane jest do pracowników odpowiedzialnych za rozwój\, produkcję\, zapewnienie jakości\, zarządzanie dostawcami\, obsługę klienta i nadzór nad reklamacjami\, auditorów systemu\, procesu wytwarzania czy auditorów wyrobu oraz do pracowników logistyki. \nZawartość\n\nŚwiadomość jakości.\nTechniki rozwiązywania problemów z uwzględnieniem metody 8D.\nOmówienie metody rozwiązywania problemów:\n\ncel\, zastosowanie\, zasady\, rozwinięcie kroków metodologii.\n\n\nNarzędzia jakości\, takie jak: Ishikawa\, 5 Why\, IS/IS NOT\, 5W2H.\nCase study.\n\nLiteratura\n\nIATF 16949.\nCQI 20.\n\nTest\nPo zakończonym szkoleniu przewidziany jest test pisemny dla uczestników\, weryfikujący nabytą wiedzę. \nPotwierdzenie kwalifikacji\nPo szkoleniu otrzymają Państwo eCertyfikat uczestnictwa SQD Alliance. \nEfekty kształcenia\n\nUmiejętność konstruktywnego i systematycznego podejścia do procesu analizy i skutecznej eliminacji problemów.\nZdobycie teoretycznej i praktycznej wiedzy na temat narzędzi służących rozwiązywaniu problemów.\nOpanowanie metodyki postępowania z problemem.\nUmiejętność opracowania raportu 8D.\nZrozumienie znaczenia funkcjonowania grupy interdyscyplinarnej.\n\nNa potrzeby klienta szkolenie w formie zamkniętej można rozszerzyć do formy dwudniowej o zagadnienia związane z m.in. A3\, QRQC \nSzkolenia powiązane(ID 9109) - Lider zespołów interdyscyplinarnychCena zawieraMateriały szkoleniowe w wersji PDF\, wydanie certyfikatu.
URL:https://sqda.pl/szkolenie/nowoczesne-metody-pracy-sluzb-bhp-psychologiczne-przyczyny-wypadkow-w-pracy-id-3217-online-17/
LOCATION:Szkolenie w systemie online
CATEGORIES:Bezpieczeństwo pracy
ORGANIZER;CN="Szkolenia OHS":MAILTO:szkolenia.ohs@sqda.pl
END:VEVENT
BEGIN:VEVENT
DTSTART;TZID=Europe/Warsaw:20260421T083000
DTEND;TZID=Europe/Warsaw:20260424T150000
DTSTAMP:20260421T025145
CREATED:20251204T112644Z
LAST-MODIFIED:20260416T093302Z
UID:75569-1776760200-1777042800@sqda.pl
SUMMARY:Szkolenie okresowe w zakresie bezpieczeństwa i higieny pracy dla pracowników służby bhp i osób wykonujących zadania tej służby – szkolenie online (ID 3028)
DESCRIPTION:Opis szkolenia\nRozwiązywanie problemów w branży motoryzacyjnej jest kluczem do właściwego działania organizacji w łańcuchach dostaw. Zapewnienie zgodnego wyrobu oraz skutecznie działających procesów jest jednak dużym wyzwaniem. Pojawiające się problemy wewnętrzne oraz sygnały od klienta o złej jakości wyrobów muszą być odpowiednio przetworzone w celu podjęcia skutecznych działań i eliminacji problemów na przyszłość. Metoda pozwalająca na nazwanie i opracowanie rozwiązań i skuteczne ich wdrożenie stosowana w branży motoryzacyjnej bazuje na standardzie CQI 20 grupy AIAG. Wraz z powiązanymi technikami analitycznymi (5 Why\, 5W2H\, Is/Is Not\, Ishikawa i inne) pozwala na przeanalizowanie źródłowych przyczyn problemów oraz ich usunięcie poprzez właściwe stosowanie efektywnego procesu rozwiązywania problemu. \n Grupa docelowa\nSzkolenie skierowane jest do pracowników odpowiedzialnych za rozwój\, produkcję\, zapewnienie jakości\, zarządzanie dostawcami\, obsługę klienta i nadzór nad reklamacjami\, auditorów systemu\, procesu wytwarzania czy auditorów wyrobu oraz do pracowników logistyki. \nZawartość\n\nŚwiadomość jakości.\nTechniki rozwiązywania problemów z uwzględnieniem metody 8D.\nOmówienie metody rozwiązywania problemów:\n\ncel\, zastosowanie\, zasady\, rozwinięcie kroków metodologii.\n\n\nNarzędzia jakości\, takie jak: Ishikawa\, 5 Why\, IS/IS NOT\, 5W2H.\nCase study.\n\nLiteratura\n\nIATF 16949.\nCQI 20.\n\nTest\nPo zakończonym szkoleniu przewidziany jest test pisemny dla uczestników\, weryfikujący nabytą wiedzę. \nPotwierdzenie kwalifikacji\nPo szkoleniu otrzymają Państwo eCertyfikat uczestnictwa SQD Alliance. \nEfekty kształcenia\n\nUmiejętność konstruktywnego i systematycznego podejścia do procesu analizy i skutecznej eliminacji problemów.\nZdobycie teoretycznej i praktycznej wiedzy na temat narzędzi służących rozwiązywaniu problemów.\nOpanowanie metodyki postępowania z problemem.\nUmiejętność opracowania raportu 8D.\nZrozumienie znaczenia funkcjonowania grupy interdyscyplinarnej.\n\nNa potrzeby klienta szkolenie w formie zamkniętej można rozszerzyć do formy dwudniowej o zagadnienia związane z m.in. A3\, QRQC \nSzkolenia powiązane(ID 9109) - Lider zespołów interdyscyplinarnychCena zawieraMateriały szkoleniowe w wersji PDF\, wydanie certyfikatu.
URL:https://sqda.pl/szkolenie/szkolenie-okresowe-w-zakresie-bezpieczenstwa-i-higieny-pracy-dla-pracownikow-sluzby-bhp-i-osob-wykonujacych-zadania-tej-sluzby-szkolenie-online-id-3028-8/
LOCATION:Szkolenie w systemie online
CATEGORIES:Bezpieczeństwo pracy
ORGANIZER;CN="Szkolenia OHS":MAILTO:szkolenia.ohs@sqda.pl
END:VEVENT
END:VCALENDAR