BEGIN:VCALENDAR
VERSION:2.0
PRODID:-//SQD Alliance - ECPv6.13.2.1//NONSGML v1.0//EN
CALSCALE:GREGORIAN
METHOD:PUBLISH
X-WR-CALNAME:SQD Alliance
X-ORIGINAL-URL:https://sqda.pl
X-WR-CALDESC:Wydarzenia dla SQD Alliance
REFRESH-INTERVAL;VALUE=DURATION:PT1H
X-Robots-Tag:noindex
X-PUBLISHED-TTL:PT1H
BEGIN:VTIMEZONE
TZID:Europe/Warsaw
BEGIN:DAYLIGHT
TZOFFSETFROM:+0100
TZOFFSETTO:+0200
TZNAME:CEST
DTSTART:20230326T010000
END:DAYLIGHT
BEGIN:STANDARD
TZOFFSETFROM:+0200
TZOFFSETTO:+0100
TZNAME:CET
DTSTART:20231029T010000
END:STANDARD
END:VTIMEZONE
BEGIN:VEVENT
DTSTART;TZID=Europe/Warsaw:20230308T090000
DTEND;TZID=Europe/Warsaw:20230308T130000
DTSTAMP:20260425T041427
CREATED:20240226T082227Z
LAST-MODIFIED:20240307T122107Z
UID:66116-1678266000-1678280400@sqda.pl
SUMMARY:Od VDA 6.3:2016 do VDA 6.3:2023 – szkolenie aktualizacyjne (ID 333)
DESCRIPTION:Opis szkolenia\nPodczas szkolenia omawiane są podstawowe informacje dotyczące auditów procesu w łańcuchu dostaw według VDA 6.8\, z uwzględnieniem podejścia procesowego i analizy ryzyka w branży motoryzacyjnej. \nUczestnicy dowiedzą się\, jakie wymagania są istotne w obszarach zarządzania projektami\, planowania i realizacji\, zarządzania dostawcami\, zaopatrzenia\, transportu\, logistyki magazynowej oraz relacji z klientami\, a także jak te wymagania mogą być wdrożone w praktyce. \nGrupa docelowa\nSzkolenie przeznaczone jest dla auditorów procesu VDA 6.3 z doświadczeniem zawodowym w obszarze działalności związanych z logistyką\, którzy chcą w przyszłości przeprowadzać audity wg VDA 6.8. \nZawartość\n\nPorównanie VDA 6.8 z innymi wymaganiami.\nOmówienie struktury wymagań.\nUżycie katalogów L1 do L7.\nSchemat oceny.\nPoszczególne elementy omawiane na podstawie ćwiczeń.\n\nLiteratura\n\nVDA 6.8\n\nWymagania wstępne\n\n\nMinimum 3 lata doświadczenia zawodowego w przemyśle\, w tym co najmniej 1 rok w obszarze działalności związanych z logistyką. \nUwaga: Pozytywne ukończenie testu po szkoleniu pozwala uzyskać certyfikat auditora wewnętrznego procesu VDA 6.8\, aby uzyskać uprawnienia auditora zewnętrznego procesu VDA 6.8 należy zdać egzamin (ID 962).\n\nEgzamin/test\nPo zakończonym szkoleniu przewidziany jest test pisemny dla uczestników\, weryfikujący nabytą wiedzę. \nPotwierdzenie kwalifikacji\nPo szkoleniu otrzymają Państwo eCertyfikat kwalifikacji VDA QMC. \nEfekty kształcenia \n\nZrozumienie ogólnych wymagań i zasad VDA 6.8.\nUmiejętność stosowania w praktyce katalogu pytań\, używając elementów procesu (L1-L7).\n\nSzkolenia powiązane(ID 961) - VDA 6.8 – Auditor procesu łańcucha dostaw – kurs kwalifikacyjny(ID 962) - VDA 6.8 – Auditor procesu łańcucha dostaw  – egzaminCena zawieraMateriały szkoleniowe w wersji PDF\, wydanie certyfikatu.
URL:https://sqda.pl/szkolenie/od-vda-6-32016-do-vda-6-32023-szkolenie-aktualizacyjne-id-333-19/
LOCATION:Szkolenie w systemie online
CATEGORIES:Auditowanie,Podręcznik gratis
ORGANIZER;CN="SQD Alliance - Szkolenia":MAILTO:szkolenia@sqda.pl
END:VEVENT
BEGIN:VEVENT
DTSTART;TZID=Europe/Warsaw:20230311T090000
DTEND;TZID=Europe/Warsaw:20230311T130000
DTSTAMP:20260425T041427
CREATED:20231122T074951Z
LAST-MODIFIED:20231122T075935Z
UID:65444-1678525200-1678539600@sqda.pl
SUMMARY:From VDA 6.3:2016 to VDA 6.3:2023 – Upgrade (ID 333EN)
DESCRIPTION:Opis szkolenia\nPodczas szkolenia omawiane są podstawowe informacje dotyczące auditów procesu w łańcuchu dostaw według VDA 6.8\, z uwzględnieniem podejścia procesowego i analizy ryzyka w branży motoryzacyjnej. \nUczestnicy dowiedzą się\, jakie wymagania są istotne w obszarach zarządzania projektami\, planowania i realizacji\, zarządzania dostawcami\, zaopatrzenia\, transportu\, logistyki magazynowej oraz relacji z klientami\, a także jak te wymagania mogą być wdrożone w praktyce. \nGrupa docelowa\nSzkolenie przeznaczone jest dla auditorów procesu VDA 6.3 z doświadczeniem zawodowym w obszarze działalności związanych z logistyką\, którzy chcą w przyszłości przeprowadzać audity wg VDA 6.8. \nZawartość\n\nPorównanie VDA 6.8 z innymi wymaganiami.\nOmówienie struktury wymagań.\nUżycie katalogów L1 do L7.\nSchemat oceny.\nPoszczególne elementy omawiane na podstawie ćwiczeń.\n\nLiteratura\n\nVDA 6.8\n\nWymagania wstępne\n\n\nMinimum 3 lata doświadczenia zawodowego w przemyśle\, w tym co najmniej 1 rok w obszarze działalności związanych z logistyką. \nUwaga: Pozytywne ukończenie testu po szkoleniu pozwala uzyskać certyfikat auditora wewnętrznego procesu VDA 6.8\, aby uzyskać uprawnienia auditora zewnętrznego procesu VDA 6.8 należy zdać egzamin (ID 962).\n\nEgzamin/test\nPo zakończonym szkoleniu przewidziany jest test pisemny dla uczestników\, weryfikujący nabytą wiedzę. \nPotwierdzenie kwalifikacji\nPo szkoleniu otrzymają Państwo eCertyfikat kwalifikacji VDA QMC. \nEfekty kształcenia \n\nZrozumienie ogólnych wymagań i zasad VDA 6.8.\nUmiejętność stosowania w praktyce katalogu pytań\, używając elementów procesu (L1-L7).\n\nSzkolenia powiązane(ID 961) - VDA 6.8 – Auditor procesu łańcucha dostaw – kurs kwalifikacyjny(ID 962) - VDA 6.8 – Auditor procesu łańcucha dostaw  – egzaminCena zawieraMateriały szkoleniowe w wersji PDF\, wydanie certyfikatu.
URL:https://sqda.pl/szkolenie/from-vda-6-32016-to-vda-6-32023-upgrade-id-333en/
LOCATION:Szkolenie w systemie online
ORGANIZER;CN="SQD Alliance - Szkolenia":MAILTO:szkolenia@sqda.pl
END:VEVENT
BEGIN:VEVENT
DTSTART;TZID=Europe/Warsaw:20230312T090000
DTEND;TZID=Europe/Warsaw:20230314T160000
DTSTAMP:20260425T041427
CREATED:20231016T095301Z
LAST-MODIFIED:20240229T065443Z
UID:64831-1678611600-1678809600@sqda.pl
SUMMARY:Wstęp do analizy zmienności systemów pomiarowych (MSA) i podstawy statystycznego sterowania procesami produkcyjnymi (SPC). Warsztaty (ID 9115)
DESCRIPTION:Opis szkolenia\nPodczas szkolenia omawiane są podstawowe informacje dotyczące auditów procesu w łańcuchu dostaw według VDA 6.8\, z uwzględnieniem podejścia procesowego i analizy ryzyka w branży motoryzacyjnej. \nUczestnicy dowiedzą się\, jakie wymagania są istotne w obszarach zarządzania projektami\, planowania i realizacji\, zarządzania dostawcami\, zaopatrzenia\, transportu\, logistyki magazynowej oraz relacji z klientami\, a także jak te wymagania mogą być wdrożone w praktyce. \nGrupa docelowa\nSzkolenie przeznaczone jest dla auditorów procesu VDA 6.3 z doświadczeniem zawodowym w obszarze działalności związanych z logistyką\, którzy chcą w przyszłości przeprowadzać audity wg VDA 6.8. \nZawartość\n\nPorównanie VDA 6.8 z innymi wymaganiami.\nOmówienie struktury wymagań.\nUżycie katalogów L1 do L7.\nSchemat oceny.\nPoszczególne elementy omawiane na podstawie ćwiczeń.\n\nLiteratura\n\nVDA 6.8\n\nWymagania wstępne\n\n\nMinimum 3 lata doświadczenia zawodowego w przemyśle\, w tym co najmniej 1 rok w obszarze działalności związanych z logistyką. \nUwaga: Pozytywne ukończenie testu po szkoleniu pozwala uzyskać certyfikat auditora wewnętrznego procesu VDA 6.8\, aby uzyskać uprawnienia auditora zewnętrznego procesu VDA 6.8 należy zdać egzamin (ID 962).\n\nEgzamin/test\nPo zakończonym szkoleniu przewidziany jest test pisemny dla uczestników\, weryfikujący nabytą wiedzę. \nPotwierdzenie kwalifikacji\nPo szkoleniu otrzymają Państwo eCertyfikat kwalifikacji VDA QMC. \nEfekty kształcenia \n\nZrozumienie ogólnych wymagań i zasad VDA 6.8.\nUmiejętność stosowania w praktyce katalogu pytań\, używając elementów procesu (L1-L7).\n\nSzkolenia powiązane(ID 961) - VDA 6.8 – Auditor procesu łańcucha dostaw – kurs kwalifikacyjny(ID 962) - VDA 6.8 – Auditor procesu łańcucha dostaw  – egzaminCena zawieraMateriały szkoleniowe w wersji PDF\, wydanie certyfikatu.
URL:https://sqda.pl/szkolenie/wstep-do-analizy-zmiennosci-systemow-pomiarowych-msa-i-podstawy-statystycznego-sterowania-procesami-produkcyjnymi-spc-warsztaty-id-9115/
LOCATION:Biuro SQD Alliance w Bielanach Wrocławskich\, Nektarowa 3\, Bielany Wrocławskie\, dolnośląskie\, 55-040
CATEGORIES:Narzędzia i kluczowe metody jakości
ORGANIZER;CN="SQD Alliance - Szkolenia":MAILTO:szkolenia@sqda.pl
END:VEVENT
BEGIN:VEVENT
DTSTART;TZID=Europe/Warsaw:20230319T090000
DTEND;TZID=Europe/Warsaw:20230320T160000
DTSTAMP:20260425T041427
CREATED:20240202T090734Z
LAST-MODIFIED:20240307T124222Z
UID:65958-1679216400-1679328000@sqda.pl
SUMMARY:VDA Field Failure Analysis for Users (ID 632EN) - online
DESCRIPTION:Opis szkolenia\nPodczas szkolenia omawiane są podstawowe informacje dotyczące auditów procesu w łańcuchu dostaw według VDA 6.8\, z uwzględnieniem podejścia procesowego i analizy ryzyka w branży motoryzacyjnej. \nUczestnicy dowiedzą się\, jakie wymagania są istotne w obszarach zarządzania projektami\, planowania i realizacji\, zarządzania dostawcami\, zaopatrzenia\, transportu\, logistyki magazynowej oraz relacji z klientami\, a także jak te wymagania mogą być wdrożone w praktyce. \nGrupa docelowa\nSzkolenie przeznaczone jest dla auditorów procesu VDA 6.3 z doświadczeniem zawodowym w obszarze działalności związanych z logistyką\, którzy chcą w przyszłości przeprowadzać audity wg VDA 6.8. \nZawartość\n\nPorównanie VDA 6.8 z innymi wymaganiami.\nOmówienie struktury wymagań.\nUżycie katalogów L1 do L7.\nSchemat oceny.\nPoszczególne elementy omawiane na podstawie ćwiczeń.\n\nLiteratura\n\nVDA 6.8\n\nWymagania wstępne\n\n\nMinimum 3 lata doświadczenia zawodowego w przemyśle\, w tym co najmniej 1 rok w obszarze działalności związanych z logistyką. \nUwaga: Pozytywne ukończenie testu po szkoleniu pozwala uzyskać certyfikat auditora wewnętrznego procesu VDA 6.8\, aby uzyskać uprawnienia auditora zewnętrznego procesu VDA 6.8 należy zdać egzamin (ID 962).\n\nEgzamin/test\nPo zakończonym szkoleniu przewidziany jest test pisemny dla uczestników\, weryfikujący nabytą wiedzę. \nPotwierdzenie kwalifikacji\nPo szkoleniu otrzymają Państwo eCertyfikat kwalifikacji VDA QMC. \nEfekty kształcenia \n\nZrozumienie ogólnych wymagań i zasad VDA 6.8.\nUmiejętność stosowania w praktyce katalogu pytań\, używając elementów procesu (L1-L7).\n\nSzkolenia powiązane(ID 961) - VDA 6.8 – Auditor procesu łańcucha dostaw – kurs kwalifikacyjny(ID 962) - VDA 6.8 – Auditor procesu łańcucha dostaw  – egzaminCena zawieraMateriały szkoleniowe w wersji PDF\, wydanie certyfikatu.
URL:https://sqda.pl/szkolenie/vda-field-failure-analysis-for-users-id-632en-online/
LOCATION:Szkolenie w systemie online
ORGANIZER;CN="SQD Alliance - Szkolenia":MAILTO:szkolenia@sqda.pl
END:VEVENT
END:VCALENDAR