BEGIN:VCALENDAR
VERSION:2.0
PRODID:-//SQD Alliance - ECPv6.13.2.1//NONSGML v1.0//EN
CALSCALE:GREGORIAN
METHOD:PUBLISH
X-ORIGINAL-URL:https://sqda.pl
X-WR-CALDESC:Wydarzenia dla SQD Alliance
REFRESH-INTERVAL;VALUE=DURATION:PT1H
X-Robots-Tag:noindex
X-PUBLISHED-TTL:PT1H
BEGIN:VTIMEZONE
TZID:Europe/Warsaw
BEGIN:DAYLIGHT
TZOFFSETFROM:+0100
TZOFFSETTO:+0200
TZNAME:CEST
DTSTART:20230326T010000
END:DAYLIGHT
BEGIN:STANDARD
TZOFFSETFROM:+0200
TZOFFSETTO:+0100
TZNAME:CET
DTSTART:20231029T010000
END:STANDARD
END:VTIMEZONE
BEGIN:VEVENT
DTSTART;TZID=Europe/Warsaw:20230404T090000
DTEND;TZID=Europe/Warsaw:20230405T160000
DTSTAMP:20260425T022505
CREATED:20231016T093922Z
LAST-MODIFIED:20240320T062604Z
UID:64827-1680598800-1680710400@sqda.pl
SUMMARY:VDA 19.2 – Szkolenie na wykwalifikowanego asystenta czystości technicznej w przemyśle motoryzacyjnym (ID 974)
DESCRIPTION:Opis szkolenia\nPodczas szkolenia omawiane są podstawowe informacje dotyczące auditów procesu w łańcuchu dostaw według VDA 6.8\, z uwzględnieniem podejścia procesowego i analizy ryzyka w branży motoryzacyjnej. \nUczestnicy dowiedzą się\, jakie wymagania są istotne w obszarach zarządzania projektami\, planowania i realizacji\, zarządzania dostawcami\, zaopatrzenia\, transportu\, logistyki magazynowej oraz relacji z klientami\, a także jak te wymagania mogą być wdrożone w praktyce. \nGrupa docelowa\nSzkolenie przeznaczone jest dla auditorów procesu VDA 6.3 z doświadczeniem zawodowym w obszarze działalności związanych z logistyką\, którzy chcą w przyszłości przeprowadzać audity wg VDA 6.8. \nZawartość\n\nPorównanie VDA 6.8 z innymi wymaganiami.\nOmówienie struktury wymagań.\nUżycie katalogów L1 do L7.\nSchemat oceny.\nPoszczególne elementy omawiane na podstawie ćwiczeń.\n\nLiteratura\n\nVDA 6.8\n\nWymagania wstępne\n\n\nMinimum 3 lata doświadczenia zawodowego w przemyśle\, w tym co najmniej 1 rok w obszarze działalności związanych z logistyką. \nUwaga: Pozytywne ukończenie testu po szkoleniu pozwala uzyskać certyfikat auditora wewnętrznego procesu VDA 6.8\, aby uzyskać uprawnienia auditora zewnętrznego procesu VDA 6.8 należy zdać egzamin (ID 962).\n\nEgzamin/test\nPo zakończonym szkoleniu przewidziany jest test pisemny dla uczestników\, weryfikujący nabytą wiedzę. \nPotwierdzenie kwalifikacji\nPo szkoleniu otrzymają Państwo eCertyfikat kwalifikacji VDA QMC. \nEfekty kształcenia \n\nZrozumienie ogólnych wymagań i zasad VDA 6.8.\nUmiejętność stosowania w praktyce katalogu pytań\, używając elementów procesu (L1-L7).\n\nSzkolenia powiązane(ID 961) - VDA 6.8 – Auditor procesu łańcucha dostaw – kurs kwalifikacyjny(ID 962) - VDA 6.8 – Auditor procesu łańcucha dostaw  – egzaminCena zawieraMateriały szkoleniowe w wersji PDF\, wydanie certyfikatu.
URL:https://sqda.pl/szkolenie/vda-19-2-szkolenie-na-wykwalifikowanego-asystenta-czystosci-technicznej-w-przemysle-motoryzacyjnym-id-974-9/
LOCATION:Biuro SQD Alliance w Bielanach Wrocławskich\, Nektarowa 3\, Bielany Wrocławskie\, dolnośląskie\, 55-040
CATEGORIES:Auditowanie
ORGANIZER;CN="SQD Alliance - Szkolenia":MAILTO:szkolenia@sqda.pl
END:VEVENT
BEGIN:VEVENT
DTSTART;TZID=Europe/Warsaw:20230425T090000
DTEND;TZID=Europe/Warsaw:20230426T160000
DTSTAMP:20260425T022505
CREATED:20231025T125453Z
LAST-MODIFIED:20231026T061555Z
UID:65113-1682413200-1682524800@sqda.pl
SUMMARY:Ekspert w Auditach Systemów Zarządzania Cyberbezpieczeństwem w branży motoryzacyjnej - kurs kwalifikacyjny (ID 432)
DESCRIPTION:Opis szkolenia\nPodczas szkolenia omawiane są podstawowe informacje dotyczące auditów procesu w łańcuchu dostaw według VDA 6.8\, z uwzględnieniem podejścia procesowego i analizy ryzyka w branży motoryzacyjnej. \nUczestnicy dowiedzą się\, jakie wymagania są istotne w obszarach zarządzania projektami\, planowania i realizacji\, zarządzania dostawcami\, zaopatrzenia\, transportu\, logistyki magazynowej oraz relacji z klientami\, a także jak te wymagania mogą być wdrożone w praktyce. \nGrupa docelowa\nSzkolenie przeznaczone jest dla auditorów procesu VDA 6.3 z doświadczeniem zawodowym w obszarze działalności związanych z logistyką\, którzy chcą w przyszłości przeprowadzać audity wg VDA 6.8. \nZawartość\n\nPorównanie VDA 6.8 z innymi wymaganiami.\nOmówienie struktury wymagań.\nUżycie katalogów L1 do L7.\nSchemat oceny.\nPoszczególne elementy omawiane na podstawie ćwiczeń.\n\nLiteratura\n\nVDA 6.8\n\nWymagania wstępne\n\n\nMinimum 3 lata doświadczenia zawodowego w przemyśle\, w tym co najmniej 1 rok w obszarze działalności związanych z logistyką. \nUwaga: Pozytywne ukończenie testu po szkoleniu pozwala uzyskać certyfikat auditora wewnętrznego procesu VDA 6.8\, aby uzyskać uprawnienia auditora zewnętrznego procesu VDA 6.8 należy zdać egzamin (ID 962).\n\nEgzamin/test\nPo zakończonym szkoleniu przewidziany jest test pisemny dla uczestników\, weryfikujący nabytą wiedzę. \nPotwierdzenie kwalifikacji\nPo szkoleniu otrzymają Państwo eCertyfikat kwalifikacji VDA QMC. \nEfekty kształcenia \n\nZrozumienie ogólnych wymagań i zasad VDA 6.8.\nUmiejętność stosowania w praktyce katalogu pytań\, używając elementów procesu (L1-L7).\n\nSzkolenia powiązane(ID 961) - VDA 6.8 – Auditor procesu łańcucha dostaw – kurs kwalifikacyjny(ID 962) - VDA 6.8 – Auditor procesu łańcucha dostaw  – egzaminCena zawieraMateriały szkoleniowe w wersji PDF\, wydanie certyfikatu.
URL:https://sqda.pl/szkolenie/ekspert-w-auditach-systemow-zarzadzania-cyberbezpieczenstwem-w-branzy-motoryzacyjnej-kurs-kwalifikacyjny-id-432/
LOCATION:Szkolenie w systemie online
ORGANIZER;CN="SQD Alliance - Szkolenia":MAILTO:szkolenia@sqda.pl
END:VEVENT
END:VCALENDAR