BEGIN:VCALENDAR
VERSION:2.0
PRODID:-//SQD Alliance - ECPv6.13.2.1//NONSGML v1.0//EN
CALSCALE:GREGORIAN
METHOD:PUBLISH
X-WR-CALNAME:SQD Alliance
X-ORIGINAL-URL:https://sqda.pl
X-WR-CALDESC:Wydarzenia dla SQD Alliance
REFRESH-INTERVAL;VALUE=DURATION:PT1H
X-Robots-Tag:noindex
X-PUBLISHED-TTL:PT1H
BEGIN:VTIMEZONE
TZID:Europe/Warsaw
BEGIN:DAYLIGHT
TZOFFSETFROM:+0100
TZOFFSETTO:+0200
TZNAME:CEST
DTSTART:20230326T010000
END:DAYLIGHT
BEGIN:STANDARD
TZOFFSETFROM:+0200
TZOFFSETTO:+0100
TZNAME:CET
DTSTART:20231029T010000
END:STANDARD
END:VTIMEZONE
BEGIN:VEVENT
DTSTART;TZID=Europe/Warsaw:20230606T090000
DTEND;TZID=Europe/Warsaw:20230607T160000
DTSTAMP:20260424T230838
CREATED:20231017T082719Z
LAST-MODIFIED:20240528T070842Z
UID:64871-1686042000-1686153600@sqda.pl
SUMMARY:Podstawy rysunku technicznego i metrologii warsztatowej (ID 9221)
DESCRIPTION:Opis szkolenia\nPodczas szkolenia omawiane są podstawowe informacje dotyczące auditów procesu w łańcuchu dostaw według VDA 6.8\, z uwzględnieniem podejścia procesowego i analizy ryzyka w branży motoryzacyjnej. \nUczestnicy dowiedzą się\, jakie wymagania są istotne w obszarach zarządzania projektami\, planowania i realizacji\, zarządzania dostawcami\, zaopatrzenia\, transportu\, logistyki magazynowej oraz relacji z klientami\, a także jak te wymagania mogą być wdrożone w praktyce. \nGrupa docelowa\nSzkolenie przeznaczone jest dla auditorów procesu VDA 6.3 z doświadczeniem zawodowym w obszarze działalności związanych z logistyką\, którzy chcą w przyszłości przeprowadzać audity wg VDA 6.8. \nZawartość\n\nPorównanie VDA 6.8 z innymi wymaganiami.\nOmówienie struktury wymagań.\nUżycie katalogów L1 do L7.\nSchemat oceny.\nPoszczególne elementy omawiane na podstawie ćwiczeń.\n\nLiteratura\n\nVDA 6.8\n\nWymagania wstępne\n\n\nMinimum 3 lata doświadczenia zawodowego w przemyśle\, w tym co najmniej 1 rok w obszarze działalności związanych z logistyką. \nUwaga: Pozytywne ukończenie testu po szkoleniu pozwala uzyskać certyfikat auditora wewnętrznego procesu VDA 6.8\, aby uzyskać uprawnienia auditora zewnętrznego procesu VDA 6.8 należy zdać egzamin (ID 962).\n\nEgzamin/test\nPo zakończonym szkoleniu przewidziany jest test pisemny dla uczestników\, weryfikujący nabytą wiedzę. \nPotwierdzenie kwalifikacji\nPo szkoleniu otrzymają Państwo eCertyfikat kwalifikacji VDA QMC. \nEfekty kształcenia \n\nZrozumienie ogólnych wymagań i zasad VDA 6.8.\nUmiejętność stosowania w praktyce katalogu pytań\, używając elementów procesu (L1-L7).\n\nSzkolenia powiązane(ID 961) - VDA 6.8 – Auditor procesu łańcucha dostaw – kurs kwalifikacyjny(ID 962) - VDA 6.8 – Auditor procesu łańcucha dostaw  – egzaminCena zawieraMateriały szkoleniowe w wersji PDF\, wydanie certyfikatu.
URL:https://sqda.pl/szkolenie/podstawy-rysunku-technicznego-i-metrologii-warsztatowej-id-9221-6/
LOCATION:Biuro SQD Alliance w Bielanach Wrocławskich\, Nektarowa 3\, Bielany Wrocławskie\, dolnośląskie\, 55-040
CATEGORIES:Narzędzia i kluczowe metody jakości
ORGANIZER;CN="SQD Alliance - Szkolenia":MAILTO:szkolenia@sqda.pl
END:VEVENT
BEGIN:VEVENT
DTSTART;TZID=Europe/Warsaw:20230610T090000
DTEND;TZID=Europe/Warsaw:20230610T160000
DTSTAMP:20260424T230839
CREATED:20240327T102937Z
LAST-MODIFIED:20240527T123224Z
UID:66337-1686387600-1686412800@sqda.pl
SUMMARY:ARIA – Akademia Robotyzacji i Automatyzacji – Moduł I (ID 9231)
DESCRIPTION:Opis szkolenia\nPodczas szkolenia omawiane są podstawowe informacje dotyczące auditów procesu w łańcuchu dostaw według VDA 6.8\, z uwzględnieniem podejścia procesowego i analizy ryzyka w branży motoryzacyjnej. \nUczestnicy dowiedzą się\, jakie wymagania są istotne w obszarach zarządzania projektami\, planowania i realizacji\, zarządzania dostawcami\, zaopatrzenia\, transportu\, logistyki magazynowej oraz relacji z klientami\, a także jak te wymagania mogą być wdrożone w praktyce. \nGrupa docelowa\nSzkolenie przeznaczone jest dla auditorów procesu VDA 6.3 z doświadczeniem zawodowym w obszarze działalności związanych z logistyką\, którzy chcą w przyszłości przeprowadzać audity wg VDA 6.8. \nZawartość\n\nPorównanie VDA 6.8 z innymi wymaganiami.\nOmówienie struktury wymagań.\nUżycie katalogów L1 do L7.\nSchemat oceny.\nPoszczególne elementy omawiane na podstawie ćwiczeń.\n\nLiteratura\n\nVDA 6.8\n\nWymagania wstępne\n\n\nMinimum 3 lata doświadczenia zawodowego w przemyśle\, w tym co najmniej 1 rok w obszarze działalności związanych z logistyką. \nUwaga: Pozytywne ukończenie testu po szkoleniu pozwala uzyskać certyfikat auditora wewnętrznego procesu VDA 6.8\, aby uzyskać uprawnienia auditora zewnętrznego procesu VDA 6.8 należy zdać egzamin (ID 962).\n\nEgzamin/test\nPo zakończonym szkoleniu przewidziany jest test pisemny dla uczestników\, weryfikujący nabytą wiedzę. \nPotwierdzenie kwalifikacji\nPo szkoleniu otrzymają Państwo eCertyfikat kwalifikacji VDA QMC. \nEfekty kształcenia \n\nZrozumienie ogólnych wymagań i zasad VDA 6.8.\nUmiejętność stosowania w praktyce katalogu pytań\, używając elementów procesu (L1-L7).\n\nSzkolenia powiązane(ID 961) - VDA 6.8 – Auditor procesu łańcucha dostaw – kurs kwalifikacyjny(ID 962) - VDA 6.8 – Auditor procesu łańcucha dostaw  – egzaminCena zawieraMateriały szkoleniowe w wersji PDF\, wydanie certyfikatu.
URL:https://sqda.pl/szkolenie/aria-akademia-robotyzacji-i-automatyzacji-modul-i-id-9231/
LOCATION:Biuro SQD Alliance w Ligocie (koło Bielska-Białej)\, ul. Koło 1\, Ligota (koło Bielska-Białej)\, śląskie\, 43-518\, Poland
ORGANIZER;CN="SQD Alliance - Szkolenia":MAILTO:szkolenia@sqda.pl
END:VEVENT
BEGIN:VEVENT
DTSTART;TZID=Europe/Warsaw:20230610T090000
DTEND;TZID=Europe/Warsaw:20230614T160000
DTSTAMP:20260424T230839
CREATED:20231205T095534Z
LAST-MODIFIED:20240527T123302Z
UID:65523-1686387600-1686758400@sqda.pl
SUMMARY:ARIA – Akademia Robotyzacji i Automatyzacji  (ID 9229)
DESCRIPTION:Opis szkolenia\nPodczas szkolenia omawiane są podstawowe informacje dotyczące auditów procesu w łańcuchu dostaw według VDA 6.8\, z uwzględnieniem podejścia procesowego i analizy ryzyka w branży motoryzacyjnej. \nUczestnicy dowiedzą się\, jakie wymagania są istotne w obszarach zarządzania projektami\, planowania i realizacji\, zarządzania dostawcami\, zaopatrzenia\, transportu\, logistyki magazynowej oraz relacji z klientami\, a także jak te wymagania mogą być wdrożone w praktyce. \nGrupa docelowa\nSzkolenie przeznaczone jest dla auditorów procesu VDA 6.3 z doświadczeniem zawodowym w obszarze działalności związanych z logistyką\, którzy chcą w przyszłości przeprowadzać audity wg VDA 6.8. \nZawartość\n\nPorównanie VDA 6.8 z innymi wymaganiami.\nOmówienie struktury wymagań.\nUżycie katalogów L1 do L7.\nSchemat oceny.\nPoszczególne elementy omawiane na podstawie ćwiczeń.\n\nLiteratura\n\nVDA 6.8\n\nWymagania wstępne\n\n\nMinimum 3 lata doświadczenia zawodowego w przemyśle\, w tym co najmniej 1 rok w obszarze działalności związanych z logistyką. \nUwaga: Pozytywne ukończenie testu po szkoleniu pozwala uzyskać certyfikat auditora wewnętrznego procesu VDA 6.8\, aby uzyskać uprawnienia auditora zewnętrznego procesu VDA 6.8 należy zdać egzamin (ID 962).\n\nEgzamin/test\nPo zakończonym szkoleniu przewidziany jest test pisemny dla uczestników\, weryfikujący nabytą wiedzę. \nPotwierdzenie kwalifikacji\nPo szkoleniu otrzymają Państwo eCertyfikat kwalifikacji VDA QMC. \nEfekty kształcenia \n\nZrozumienie ogólnych wymagań i zasad VDA 6.8.\nUmiejętność stosowania w praktyce katalogu pytań\, używając elementów procesu (L1-L7).\n\nSzkolenia powiązane(ID 961) - VDA 6.8 – Auditor procesu łańcucha dostaw – kurs kwalifikacyjny(ID 962) - VDA 6.8 – Auditor procesu łańcucha dostaw  – egzaminCena zawieraMateriały szkoleniowe w wersji PDF\, wydanie certyfikatu.
URL:https://sqda.pl/szkolenie/aria-akademia-robotyzacji-i-automatyzacji-id-9229-5/
LOCATION:Biuro SQD Alliance w Ligocie (koło Bielska-Białej)\, ul. Koło 1\, Ligota (koło Bielska-Białej)\, śląskie\, 43-518\, Poland
CATEGORIES:Robotyzacja i automatyzacja
ORGANIZER;CN="SQD Alliance - Szkolenia":MAILTO:szkolenia@sqda.pl
END:VEVENT
BEGIN:VEVENT
DTSTART;TZID=Europe/Warsaw:20230611T090000
DTEND;TZID=Europe/Warsaw:20230611T160000
DTSTAMP:20260424T230839
CREATED:20240327T105924Z
LAST-MODIFIED:20240527T123341Z
UID:66339-1686474000-1686499200@sqda.pl
SUMMARY:ARIA – Akademia Robotyzacji i Automatyzacji – Moduł II (ID 9232)
DESCRIPTION:Opis szkolenia\nPodczas szkolenia omawiane są podstawowe informacje dotyczące auditów procesu w łańcuchu dostaw według VDA 6.8\, z uwzględnieniem podejścia procesowego i analizy ryzyka w branży motoryzacyjnej. \nUczestnicy dowiedzą się\, jakie wymagania są istotne w obszarach zarządzania projektami\, planowania i realizacji\, zarządzania dostawcami\, zaopatrzenia\, transportu\, logistyki magazynowej oraz relacji z klientami\, a także jak te wymagania mogą być wdrożone w praktyce. \nGrupa docelowa\nSzkolenie przeznaczone jest dla auditorów procesu VDA 6.3 z doświadczeniem zawodowym w obszarze działalności związanych z logistyką\, którzy chcą w przyszłości przeprowadzać audity wg VDA 6.8. \nZawartość\n\nPorównanie VDA 6.8 z innymi wymaganiami.\nOmówienie struktury wymagań.\nUżycie katalogów L1 do L7.\nSchemat oceny.\nPoszczególne elementy omawiane na podstawie ćwiczeń.\n\nLiteratura\n\nVDA 6.8\n\nWymagania wstępne\n\n\nMinimum 3 lata doświadczenia zawodowego w przemyśle\, w tym co najmniej 1 rok w obszarze działalności związanych z logistyką. \nUwaga: Pozytywne ukończenie testu po szkoleniu pozwala uzyskać certyfikat auditora wewnętrznego procesu VDA 6.8\, aby uzyskać uprawnienia auditora zewnętrznego procesu VDA 6.8 należy zdać egzamin (ID 962).\n\nEgzamin/test\nPo zakończonym szkoleniu przewidziany jest test pisemny dla uczestników\, weryfikujący nabytą wiedzę. \nPotwierdzenie kwalifikacji\nPo szkoleniu otrzymają Państwo eCertyfikat kwalifikacji VDA QMC. \nEfekty kształcenia \n\nZrozumienie ogólnych wymagań i zasad VDA 6.8.\nUmiejętność stosowania w praktyce katalogu pytań\, używając elementów procesu (L1-L7).\n\nSzkolenia powiązane(ID 961) - VDA 6.8 – Auditor procesu łańcucha dostaw – kurs kwalifikacyjny(ID 962) - VDA 6.8 – Auditor procesu łańcucha dostaw  – egzaminCena zawieraMateriały szkoleniowe w wersji PDF\, wydanie certyfikatu.
URL:https://sqda.pl/szkolenie/aria-akademia-robotyzacji-i-automatyzacji-modul-ii-id-9232/
LOCATION:Biuro SQD Alliance w Ligocie (koło Bielska-Białej)\, ul. Koło 1\, Ligota (koło Bielska-Białej)\, śląskie\, 43-518\, Poland
ORGANIZER;CN="SQD Alliance - Szkolenia":MAILTO:szkolenia@sqda.pl
END:VEVENT
BEGIN:VEVENT
DTSTART;TZID=Europe/Warsaw:20230612T090000
DTEND;TZID=Europe/Warsaw:20230612T160000
DTSTAMP:20260424T230839
CREATED:20240327T110527Z
LAST-MODIFIED:20240527T123414Z
UID:66342-1686560400-1686585600@sqda.pl
SUMMARY:ARIA – Akademia Robotyzacji i Automatyzacji – Moduł III (ID 9233)
DESCRIPTION:Opis szkolenia\nPodczas szkolenia omawiane są podstawowe informacje dotyczące auditów procesu w łańcuchu dostaw według VDA 6.8\, z uwzględnieniem podejścia procesowego i analizy ryzyka w branży motoryzacyjnej. \nUczestnicy dowiedzą się\, jakie wymagania są istotne w obszarach zarządzania projektami\, planowania i realizacji\, zarządzania dostawcami\, zaopatrzenia\, transportu\, logistyki magazynowej oraz relacji z klientami\, a także jak te wymagania mogą być wdrożone w praktyce. \nGrupa docelowa\nSzkolenie przeznaczone jest dla auditorów procesu VDA 6.3 z doświadczeniem zawodowym w obszarze działalności związanych z logistyką\, którzy chcą w przyszłości przeprowadzać audity wg VDA 6.8. \nZawartość\n\nPorównanie VDA 6.8 z innymi wymaganiami.\nOmówienie struktury wymagań.\nUżycie katalogów L1 do L7.\nSchemat oceny.\nPoszczególne elementy omawiane na podstawie ćwiczeń.\n\nLiteratura\n\nVDA 6.8\n\nWymagania wstępne\n\n\nMinimum 3 lata doświadczenia zawodowego w przemyśle\, w tym co najmniej 1 rok w obszarze działalności związanych z logistyką. \nUwaga: Pozytywne ukończenie testu po szkoleniu pozwala uzyskać certyfikat auditora wewnętrznego procesu VDA 6.8\, aby uzyskać uprawnienia auditora zewnętrznego procesu VDA 6.8 należy zdać egzamin (ID 962).\n\nEgzamin/test\nPo zakończonym szkoleniu przewidziany jest test pisemny dla uczestników\, weryfikujący nabytą wiedzę. \nPotwierdzenie kwalifikacji\nPo szkoleniu otrzymają Państwo eCertyfikat kwalifikacji VDA QMC. \nEfekty kształcenia \n\nZrozumienie ogólnych wymagań i zasad VDA 6.8.\nUmiejętność stosowania w praktyce katalogu pytań\, używając elementów procesu (L1-L7).\n\nSzkolenia powiązane(ID 961) - VDA 6.8 – Auditor procesu łańcucha dostaw – kurs kwalifikacyjny(ID 962) - VDA 6.8 – Auditor procesu łańcucha dostaw  – egzaminCena zawieraMateriały szkoleniowe w wersji PDF\, wydanie certyfikatu.
URL:https://sqda.pl/szkolenie/aria-akademia-robotyzacji-i-automatyzacji-modul-iii-id-9233/
LOCATION:Biuro SQD Alliance w Ligocie (koło Bielska-Białej)\, ul. Koło 1\, Ligota (koło Bielska-Białej)\, śląskie\, 43-518\, Poland
ORGANIZER;CN="SQD Alliance - Szkolenia":MAILTO:szkolenia@sqda.pl
END:VEVENT
BEGIN:VEVENT
DTSTART;TZID=Europe/Warsaw:20230613T090000
DTEND;TZID=Europe/Warsaw:20230614T160000
DTSTAMP:20260424T230839
CREATED:20240327T110734Z
LAST-MODIFIED:20240527T123710Z
UID:66346-1686646800-1686758400@sqda.pl
SUMMARY:ARIA – Akademia Robotyzacji i Automatyzacji – Moduł IV (ID 9234)
DESCRIPTION:Opis szkolenia\nPodczas szkolenia omawiane są podstawowe informacje dotyczące auditów procesu w łańcuchu dostaw według VDA 6.8\, z uwzględnieniem podejścia procesowego i analizy ryzyka w branży motoryzacyjnej. \nUczestnicy dowiedzą się\, jakie wymagania są istotne w obszarach zarządzania projektami\, planowania i realizacji\, zarządzania dostawcami\, zaopatrzenia\, transportu\, logistyki magazynowej oraz relacji z klientami\, a także jak te wymagania mogą być wdrożone w praktyce. \nGrupa docelowa\nSzkolenie przeznaczone jest dla auditorów procesu VDA 6.3 z doświadczeniem zawodowym w obszarze działalności związanych z logistyką\, którzy chcą w przyszłości przeprowadzać audity wg VDA 6.8. \nZawartość\n\nPorównanie VDA 6.8 z innymi wymaganiami.\nOmówienie struktury wymagań.\nUżycie katalogów L1 do L7.\nSchemat oceny.\nPoszczególne elementy omawiane na podstawie ćwiczeń.\n\nLiteratura\n\nVDA 6.8\n\nWymagania wstępne\n\n\nMinimum 3 lata doświadczenia zawodowego w przemyśle\, w tym co najmniej 1 rok w obszarze działalności związanych z logistyką. \nUwaga: Pozytywne ukończenie testu po szkoleniu pozwala uzyskać certyfikat auditora wewnętrznego procesu VDA 6.8\, aby uzyskać uprawnienia auditora zewnętrznego procesu VDA 6.8 należy zdać egzamin (ID 962).\n\nEgzamin/test\nPo zakończonym szkoleniu przewidziany jest test pisemny dla uczestników\, weryfikujący nabytą wiedzę. \nPotwierdzenie kwalifikacji\nPo szkoleniu otrzymają Państwo eCertyfikat kwalifikacji VDA QMC. \nEfekty kształcenia \n\nZrozumienie ogólnych wymagań i zasad VDA 6.8.\nUmiejętność stosowania w praktyce katalogu pytań\, używając elementów procesu (L1-L7).\n\nSzkolenia powiązane(ID 961) - VDA 6.8 – Auditor procesu łańcucha dostaw – kurs kwalifikacyjny(ID 962) - VDA 6.8 – Auditor procesu łańcucha dostaw  – egzaminCena zawieraMateriały szkoleniowe w wersji PDF\, wydanie certyfikatu.
URL:https://sqda.pl/szkolenie/aria-akademia-robotyzacji-i-automatyzacji-modul-iv-id-9234/
LOCATION:Biuro SQD Alliance w Ligocie (koło Bielska-Białej)\, ul. Koło 1\, Ligota (koło Bielska-Białej)\, śląskie\, 43-518\, Poland
ORGANIZER;CN="SQD Alliance - Szkolenia":MAILTO:szkolenia@sqda.pl
END:VEVENT
BEGIN:VEVENT
DTSTART;TZID=Europe/Warsaw:20230617T090000
DTEND;TZID=Europe/Warsaw:20230617T150000
DTSTAMP:20260424T230839
CREATED:20220720T060727Z
LAST-MODIFIED:20240603T115346Z
UID:48857-1686992400-1687014000@sqda.pl
SUMMARY:SMART Manager  (ID 9322) - szkolenie online
DESCRIPTION:Opis szkolenia \nWielu managerów wpada w pułapkę – próbują pracować ciężej\, żeby osiągnąć więcej. \n\nNadganiają zaległości za swoich podwładnych.\nBiorą na siebie identyfikowanie problemów operacyjnych i poszukiwanie rozwiązań.\nŚledzą niedoskonałości w sposobie pracy swoich ludzi i starają się ich instruować.\nStarają się odpowiadać na każde pytanie pracowników i natychmiast rozwiewać ich wątpliwości.\nMonitorują terminowość realizacji zadań\, żeby jak najszybciej przypominać pracownikom o zaległych zobowiązaniach.\n\nChoć w dobrej wierze wyręczają swoich ludzi\, prędzej czy później okazuje się\, że naprawdę ambitne cele są poza ich zasięgiem. Że sił jednego człowieka nie wystarczy\, żeby ciągnąć cały zespół w kierunku celu.\nPomóc w wyjściu z tego błędnego koła może wdrożenie metody zarządzania zespołem – SMART Team: samodzielnie (SMART Manager) lub przy pomocy konsultanta (SMART Team). \nGrupa docelowa \nSzkolenie przeznaczone jest dla managerów\, którzy chcą zdobyć umiejętności we wdrażaniu metody SMART Team w swoich zespołach lub organizacjach. \n  \nZawartość \nUczymy managerów praktycznych umiejętności i dajemy narzędzia\, które pozwalają im samodzielnie prowadzić proces SMART Team\, bez konieczności angażowania konsultanta. \n\nNauka prowadzenia warsztatów strategicznych dla swojego zespołu\, podczas których wszyscy jego członkowie:\n\nformułują roczny\, strategiczny cel dla zespołu\,\nodkrywają\, jakie sposoby działania wspierają ich\, a jakie blokują we wspólnym osiąganiu celów\,\nrozbijają roczny cel na inicjatywy i obszary oraz przypisują lidera do każdego z nich\,\nplanują kwartalne rezultaty\, jakie chcą osiągnąć oraz miesięczny plan działań do wykonania\,\nustalają metody i terminy monitorowania postępów w realizacji planów.\n\n\nNauka prowadzenia comiesięcznych spotkań statusowych\, podczas których zespół spotyka się\, żeby:\n\nsprawdzić postępy w realizacji poszczególnych inicjatyw i celów\,\npodzielić się wnioskami z osiągnięć i rozczarowań\, wymienić najlepszymi praktykami i wnioskami na przyszłość\,\nzaplanować zadania na kolejny miesiąc dla poszczególnych osób\, przybliżające zespół do realizacji rocznego celu strategicznego\n\n\n\n  \nPotwierdzenie kwalifikacji \nPo szkoleniu otrzymają Państwo certyfikat uczestnictwa SQD Alliance. \n  \nEfekty kształcenia \nW pierwszym kwartale pracownicy: \n\nkoncentrują wysiłki na najważniejszych celach swojego szefa\,\nrozumieją je i widzą w nich swoją przyszłość\,\nbiorą za nie odpowiedzialność i realizują je z zapałem\,\nidentyfikują problemy i znajdują rozwiązania\, nie angażując szefa bez potrzeby\,\nproponują cele ambitniejsze niż oczekiwania przełożonych.\n\nW efekcie zespoły i całe organizacje odnotowują wzrost wydajności nawet o 30% w skali roku. \nIch liderzy redukują własne zaangażowanie w działania operacyjne i koncentrują się na rozwoju biznesu i strategii \nPowiązane szkolenia \n\nID 9321 SMART Executive Coaching\n\n  \nCena zawiera \nMateriały szkoleniowe w formie PDF\, wydanie certyfikatu.
URL:https://sqda.pl/szkolenie/smart-team-id-9322/
LOCATION:Szkolenie w systemie online
CATEGORIES:Rozwój personelu
ORGANIZER;CN="SQD Alliance - Szkolenia":MAILTO:szkolenia@sqda.pl
END:VEVENT
BEGIN:VEVENT
DTSTART;TZID=Europe/Warsaw:20230617T090000
DTEND;TZID=Europe/Warsaw:20230618T160000
DTSTAMP:20260424T230839
CREATED:20240327T084953Z
LAST-MODIFIED:20240603T120901Z
UID:66330-1686992400-1687104000@sqda.pl
SUMMARY:Budowanie relacji biznesowych w łańcuchu dostaw (ID 9328)
DESCRIPTION:Opis szkolenia\nPodczas szkolenia omawiane są podstawowe informacje dotyczące auditów procesu w łańcuchu dostaw według VDA 6.8\, z uwzględnieniem podejścia procesowego i analizy ryzyka w branży motoryzacyjnej. \nUczestnicy dowiedzą się\, jakie wymagania są istotne w obszarach zarządzania projektami\, planowania i realizacji\, zarządzania dostawcami\, zaopatrzenia\, transportu\, logistyki magazynowej oraz relacji z klientami\, a także jak te wymagania mogą być wdrożone w praktyce. \nGrupa docelowa\nSzkolenie przeznaczone jest dla auditorów procesu VDA 6.3 z doświadczeniem zawodowym w obszarze działalności związanych z logistyką\, którzy chcą w przyszłości przeprowadzać audity wg VDA 6.8. \nZawartość\n\nPorównanie VDA 6.8 z innymi wymaganiami.\nOmówienie struktury wymagań.\nUżycie katalogów L1 do L7.\nSchemat oceny.\nPoszczególne elementy omawiane na podstawie ćwiczeń.\n\nLiteratura\n\nVDA 6.8\n\nWymagania wstępne\n\n\nMinimum 3 lata doświadczenia zawodowego w przemyśle\, w tym co najmniej 1 rok w obszarze działalności związanych z logistyką. \nUwaga: Pozytywne ukończenie testu po szkoleniu pozwala uzyskać certyfikat auditora wewnętrznego procesu VDA 6.8\, aby uzyskać uprawnienia auditora zewnętrznego procesu VDA 6.8 należy zdać egzamin (ID 962).\n\nEgzamin/test\nPo zakończonym szkoleniu przewidziany jest test pisemny dla uczestników\, weryfikujący nabytą wiedzę. \nPotwierdzenie kwalifikacji\nPo szkoleniu otrzymają Państwo eCertyfikat kwalifikacji VDA QMC. \nEfekty kształcenia \n\nZrozumienie ogólnych wymagań i zasad VDA 6.8.\nUmiejętność stosowania w praktyce katalogu pytań\, używając elementów procesu (L1-L7).\n\nSzkolenia powiązane(ID 961) - VDA 6.8 – Auditor procesu łańcucha dostaw – kurs kwalifikacyjny(ID 962) - VDA 6.8 – Auditor procesu łańcucha dostaw  – egzaminCena zawieraMateriały szkoleniowe w wersji PDF\, wydanie certyfikatu.
URL:https://sqda.pl/szkolenie/budowanie-relacji-biznesowych-w-lancuchu-dostaw-id-9328/
LOCATION:Biuro SQD Alliance w Ligocie (koło Bielska-Białej)\, ul. Koło 1\, Ligota (koło Bielska-Białej)\, śląskie\, 43-518\, Poland
ORGANIZER;CN="SQD Alliance - Szkolenia":MAILTO:szkolenia@sqda.pl
END:VEVENT
BEGIN:VEVENT
DTSTART;TZID=Europe/Warsaw:20230620T090000
DTEND;TZID=Europe/Warsaw:20230621T160000
DTSTAMP:20260424T230839
CREATED:20240207T100032Z
LAST-MODIFIED:20240603T111805Z
UID:65982-1687251600-1687363200@sqda.pl
SUMMARY:APQP4H – Zarządzanie projektem łańcucha dostaw komponentów instalacji wodorowych (ID 9110)
DESCRIPTION:Opis szkolenia\nPodczas szkolenia omawiane są podstawowe informacje dotyczące auditów procesu w łańcuchu dostaw według VDA 6.8\, z uwzględnieniem podejścia procesowego i analizy ryzyka w branży motoryzacyjnej. \nUczestnicy dowiedzą się\, jakie wymagania są istotne w obszarach zarządzania projektami\, planowania i realizacji\, zarządzania dostawcami\, zaopatrzenia\, transportu\, logistyki magazynowej oraz relacji z klientami\, a także jak te wymagania mogą być wdrożone w praktyce. \nGrupa docelowa\nSzkolenie przeznaczone jest dla auditorów procesu VDA 6.3 z doświadczeniem zawodowym w obszarze działalności związanych z logistyką\, którzy chcą w przyszłości przeprowadzać audity wg VDA 6.8. \nZawartość\n\nPorównanie VDA 6.8 z innymi wymaganiami.\nOmówienie struktury wymagań.\nUżycie katalogów L1 do L7.\nSchemat oceny.\nPoszczególne elementy omawiane na podstawie ćwiczeń.\n\nLiteratura\n\nVDA 6.8\n\nWymagania wstępne\n\n\nMinimum 3 lata doświadczenia zawodowego w przemyśle\, w tym co najmniej 1 rok w obszarze działalności związanych z logistyką. \nUwaga: Pozytywne ukończenie testu po szkoleniu pozwala uzyskać certyfikat auditora wewnętrznego procesu VDA 6.8\, aby uzyskać uprawnienia auditora zewnętrznego procesu VDA 6.8 należy zdać egzamin (ID 962).\n\nEgzamin/test\nPo zakończonym szkoleniu przewidziany jest test pisemny dla uczestników\, weryfikujący nabytą wiedzę. \nPotwierdzenie kwalifikacji\nPo szkoleniu otrzymają Państwo eCertyfikat kwalifikacji VDA QMC. \nEfekty kształcenia \n\nZrozumienie ogólnych wymagań i zasad VDA 6.8.\nUmiejętność stosowania w praktyce katalogu pytań\, używając elementów procesu (L1-L7).\n\nSzkolenia powiązane(ID 961) - VDA 6.8 – Auditor procesu łańcucha dostaw – kurs kwalifikacyjny(ID 962) - VDA 6.8 – Auditor procesu łańcucha dostaw  – egzaminCena zawieraMateriały szkoleniowe w wersji PDF\, wydanie certyfikatu.
URL:https://sqda.pl/szkolenie/apqp4h-zarzadzanie-projektem-lancucha-dostaw-komponentow-instalacji-wodorowych-id-9110/
LOCATION:Biuro SQD Alliance w Pszczynie\, ul. Batorego 19\, Pszczyna\, śląskie\, 43-200
ORGANIZER;CN="SQD Alliance - Szkolenia":MAILTO:szkolenia@sqda.pl
END:VEVENT
BEGIN:VEVENT
DTSTART;TZID=Europe/Warsaw:20230624T090000
DTEND;TZID=Europe/Warsaw:20230625T160000
DTSTAMP:20260424T230839
CREATED:20231017T064553Z
LAST-MODIFIED:20240610T073518Z
UID:64867-1687597200-1687708800@sqda.pl
SUMMARY:Zasady pracy z bazą IMDS wraz z warsztatami (ID 9203)
DESCRIPTION:Opis szkolenia\nPodczas szkolenia omawiane są podstawowe informacje dotyczące auditów procesu w łańcuchu dostaw według VDA 6.8\, z uwzględnieniem podejścia procesowego i analizy ryzyka w branży motoryzacyjnej. \nUczestnicy dowiedzą się\, jakie wymagania są istotne w obszarach zarządzania projektami\, planowania i realizacji\, zarządzania dostawcami\, zaopatrzenia\, transportu\, logistyki magazynowej oraz relacji z klientami\, a także jak te wymagania mogą być wdrożone w praktyce. \nGrupa docelowa\nSzkolenie przeznaczone jest dla auditorów procesu VDA 6.3 z doświadczeniem zawodowym w obszarze działalności związanych z logistyką\, którzy chcą w przyszłości przeprowadzać audity wg VDA 6.8. \nZawartość\n\nPorównanie VDA 6.8 z innymi wymaganiami.\nOmówienie struktury wymagań.\nUżycie katalogów L1 do L7.\nSchemat oceny.\nPoszczególne elementy omawiane na podstawie ćwiczeń.\n\nLiteratura\n\nVDA 6.8\n\nWymagania wstępne\n\n\nMinimum 3 lata doświadczenia zawodowego w przemyśle\, w tym co najmniej 1 rok w obszarze działalności związanych z logistyką. \nUwaga: Pozytywne ukończenie testu po szkoleniu pozwala uzyskać certyfikat auditora wewnętrznego procesu VDA 6.8\, aby uzyskać uprawnienia auditora zewnętrznego procesu VDA 6.8 należy zdać egzamin (ID 962).\n\nEgzamin/test\nPo zakończonym szkoleniu przewidziany jest test pisemny dla uczestników\, weryfikujący nabytą wiedzę. \nPotwierdzenie kwalifikacji\nPo szkoleniu otrzymają Państwo eCertyfikat kwalifikacji VDA QMC. \nEfekty kształcenia \n\nZrozumienie ogólnych wymagań i zasad VDA 6.8.\nUmiejętność stosowania w praktyce katalogu pytań\, używając elementów procesu (L1-L7).\n\nSzkolenia powiązane(ID 961) - VDA 6.8 – Auditor procesu łańcucha dostaw – kurs kwalifikacyjny(ID 962) - VDA 6.8 – Auditor procesu łańcucha dostaw  – egzaminCena zawieraMateriały szkoleniowe w wersji PDF\, wydanie certyfikatu.
URL:https://sqda.pl/szkolenie/zasady-pracy-z-baza-imds-wraz-z-warsztatami-id-9203-5/
LOCATION:Biuro SQD Alliance w Bielanach Wrocławskich\, Nektarowa 3\, Bielany Wrocławskie\, dolnośląskie\, 55-040
CATEGORIES:Narzędzia i kluczowe metody jakości
ORGANIZER;CN="SQD Alliance - Szkolenia":MAILTO:szkolenia@sqda.pl
END:VEVENT
BEGIN:VEVENT
DTSTART;TZID=Europe/Warsaw:20230625T090000
DTEND;TZID=Europe/Warsaw:20230627T160000
DTSTAMP:20260424T230839
CREATED:20240219T132737Z
LAST-MODIFIED:20240522T072842Z
UID:66057-1687683600-1687881600@sqda.pl
SUMMARY:Quality Management System Auditor in the Automotive Industry (ISO 9001\, IATF 16949\, ISO 19011) (ID 9414EN)
DESCRIPTION:Opis szkolenia\nPodczas szkolenia omawiane są podstawowe informacje dotyczące auditów procesu w łańcuchu dostaw według VDA 6.8\, z uwzględnieniem podejścia procesowego i analizy ryzyka w branży motoryzacyjnej. \nUczestnicy dowiedzą się\, jakie wymagania są istotne w obszarach zarządzania projektami\, planowania i realizacji\, zarządzania dostawcami\, zaopatrzenia\, transportu\, logistyki magazynowej oraz relacji z klientami\, a także jak te wymagania mogą być wdrożone w praktyce. \nGrupa docelowa\nSzkolenie przeznaczone jest dla auditorów procesu VDA 6.3 z doświadczeniem zawodowym w obszarze działalności związanych z logistyką\, którzy chcą w przyszłości przeprowadzać audity wg VDA 6.8. \nZawartość\n\nPorównanie VDA 6.8 z innymi wymaganiami.\nOmówienie struktury wymagań.\nUżycie katalogów L1 do L7.\nSchemat oceny.\nPoszczególne elementy omawiane na podstawie ćwiczeń.\n\nLiteratura\n\nVDA 6.8\n\nWymagania wstępne\n\n\nMinimum 3 lata doświadczenia zawodowego w przemyśle\, w tym co najmniej 1 rok w obszarze działalności związanych z logistyką. \nUwaga: Pozytywne ukończenie testu po szkoleniu pozwala uzyskać certyfikat auditora wewnętrznego procesu VDA 6.8\, aby uzyskać uprawnienia auditora zewnętrznego procesu VDA 6.8 należy zdać egzamin (ID 962).\n\nEgzamin/test\nPo zakończonym szkoleniu przewidziany jest test pisemny dla uczestników\, weryfikujący nabytą wiedzę. \nPotwierdzenie kwalifikacji\nPo szkoleniu otrzymają Państwo eCertyfikat kwalifikacji VDA QMC. \nEfekty kształcenia \n\nZrozumienie ogólnych wymagań i zasad VDA 6.8.\nUmiejętność stosowania w praktyce katalogu pytań\, używając elementów procesu (L1-L7).\n\nSzkolenia powiązane(ID 961) - VDA 6.8 – Auditor procesu łańcucha dostaw – kurs kwalifikacyjny(ID 962) - VDA 6.8 – Auditor procesu łańcucha dostaw  – egzaminCena zawieraMateriały szkoleniowe w wersji PDF\, wydanie certyfikatu.
URL:https://sqda.pl/szkolenie/quality-management-system-auditor-in-the-automotive-industry-iso-9001-iatf-16949-iso-19011-id-9414en-szkolenie-wzorcowe-2/
LOCATION:Szkolenie w systemie online
ORGANIZER;CN="SQD Alliance - Szkolenia":MAILTO:szkolenia@sqda.pl
END:VEVENT
END:VCALENDAR