BEGIN:VCALENDAR
VERSION:2.0
PRODID:-//SQD Alliance - ECPv6.13.2.1//NONSGML v1.0//EN
CALSCALE:GREGORIAN
METHOD:PUBLISH
X-WR-CALNAME:SQD Alliance
X-ORIGINAL-URL:https://sqda.pl
X-WR-CALDESC:Wydarzenia dla SQD Alliance
REFRESH-INTERVAL;VALUE=DURATION:PT1H
X-Robots-Tag:noindex
X-PUBLISHED-TTL:PT1H
BEGIN:VTIMEZONE
TZID:Europe/Warsaw
BEGIN:DAYLIGHT
TZOFFSETFROM:+0100
TZOFFSETTO:+0200
TZNAME:CEST
DTSTART:20230326T010000
END:DAYLIGHT
BEGIN:STANDARD
TZOFFSETFROM:+0200
TZOFFSETTO:+0100
TZNAME:CET
DTSTART:20231029T010000
END:STANDARD
END:VTIMEZONE
BEGIN:VEVENT
DTSTART;TZID=Europe/Warsaw:20230820T090000
DTEND;TZID=Europe/Warsaw:20230820T160000
DTSTAMP:20260424T194900
CREATED:20231012T113048Z
LAST-MODIFIED:20240807T055943Z
UID:64744-1692522000-1692547200@sqda.pl
SUMMARY:Zarządzanie ryzykiem w procesach organizacji w oparciu o wymagania standardu IATF 16949 (ID 9100)
DESCRIPTION:Opis szkolenia\nPodczas szkolenia omawiane są podstawowe informacje dotyczące auditów procesu w łańcuchu dostaw według VDA 6.8\, z uwzględnieniem podejścia procesowego i analizy ryzyka w branży motoryzacyjnej. \nUczestnicy dowiedzą się\, jakie wymagania są istotne w obszarach zarządzania projektami\, planowania i realizacji\, zarządzania dostawcami\, zaopatrzenia\, transportu\, logistyki magazynowej oraz relacji z klientami\, a także jak te wymagania mogą być wdrożone w praktyce. \nGrupa docelowa\nSzkolenie przeznaczone jest dla auditorów procesu VDA 6.3 z doświadczeniem zawodowym w obszarze działalności związanych z logistyką\, którzy chcą w przyszłości przeprowadzać audity wg VDA 6.8. \nZawartość\n\nPorównanie VDA 6.8 z innymi wymaganiami.\nOmówienie struktury wymagań.\nUżycie katalogów L1 do L7.\nSchemat oceny.\nPoszczególne elementy omawiane na podstawie ćwiczeń.\n\nLiteratura\n\nVDA 6.8\n\nWymagania wstępne\n\n\nMinimum 3 lata doświadczenia zawodowego w przemyśle\, w tym co najmniej 1 rok w obszarze działalności związanych z logistyką. \nUwaga: Pozytywne ukończenie testu po szkoleniu pozwala uzyskać certyfikat auditora wewnętrznego procesu VDA 6.8\, aby uzyskać uprawnienia auditora zewnętrznego procesu VDA 6.8 należy zdać egzamin (ID 962).\n\nEgzamin/test\nPo zakończonym szkoleniu przewidziany jest test pisemny dla uczestników\, weryfikujący nabytą wiedzę. \nPotwierdzenie kwalifikacji\nPo szkoleniu otrzymają Państwo eCertyfikat kwalifikacji VDA QMC. \nEfekty kształcenia \n\nZrozumienie ogólnych wymagań i zasad VDA 6.8.\nUmiejętność stosowania w praktyce katalogu pytań\, używając elementów procesu (L1-L7).\n\nSzkolenia powiązane(ID 961) - VDA 6.8 – Auditor procesu łańcucha dostaw – kurs kwalifikacyjny(ID 962) - VDA 6.8 – Auditor procesu łańcucha dostaw  – egzaminCena zawieraMateriały szkoleniowe w wersji PDF\, wydanie certyfikatu.
URL:https://sqda.pl/szkolenie/zarzadzanie-ryzykiem-w-procesach-organizacji-w-oparciu-o-wymagania-standardu-iatf-16949-id-9100-2/
LOCATION:Biuro SQD Alliance w Pszczynie\, ul. Batorego 19\, Pszczyna\, śląskie\, 43-200
CATEGORIES:Narzędzia i kluczowe metody jakości
ORGANIZER;CN="SQD Alliance - Szkolenia":MAILTO:szkolenia@sqda.pl
END:VEVENT
END:VCALENDAR