BEGIN:VCALENDAR
VERSION:2.0
PRODID:-//SQD Alliance - ECPv6.13.2.1//NONSGML v1.0//EN
CALSCALE:GREGORIAN
METHOD:PUBLISH
X-WR-CALNAME:SQD Alliance
X-ORIGINAL-URL:https://sqda.pl
X-WR-CALDESC:Wydarzenia dla SQD Alliance
REFRESH-INTERVAL;VALUE=DURATION:PT1H
X-Robots-Tag:noindex
X-PUBLISHED-TTL:PT1H
BEGIN:VTIMEZONE
TZID:Europe/Warsaw
BEGIN:DAYLIGHT
TZOFFSETFROM:+0100
TZOFFSETTO:+0200
TZNAME:CEST
DTSTART:20250330T010000
END:DAYLIGHT
BEGIN:STANDARD
TZOFFSETFROM:+0200
TZOFFSETTO:+0100
TZNAME:CET
DTSTART:20251026T010000
END:STANDARD
END:VTIMEZONE
BEGIN:VEVENT
DTSTART;TZID=Europe/Warsaw:20250114T090000
DTEND;TZID=Europe/Warsaw:20250115T160000
DTSTAMP:20260423T133347
CREATED:20241001T065821Z
LAST-MODIFIED:20241218T132456Z
UID:68801-1736845200-1736956800@sqda.pl
SUMMARY:Zgodność wyrobu (CoP) (ID 502)
DESCRIPTION:Opis szkolenia\nPodczas szkolenia omawiane są podstawowe informacje dotyczące auditów procesu w łańcuchu dostaw według VDA 6.8\, z uwzględnieniem podejścia procesowego i analizy ryzyka w branży motoryzacyjnej. \nUczestnicy dowiedzą się\, jakie wymagania są istotne w obszarach zarządzania projektami\, planowania i realizacji\, zarządzania dostawcami\, zaopatrzenia\, transportu\, logistyki magazynowej oraz relacji z klientami\, a także jak te wymagania mogą być wdrożone w praktyce. \nGrupa docelowa\nSzkolenie przeznaczone jest dla auditorów procesu VDA 6.3 z doświadczeniem zawodowym w obszarze działalności związanych z logistyką\, którzy chcą w przyszłości przeprowadzać audity wg VDA 6.8. \nZawartość\n\nPorównanie VDA 6.8 z innymi wymaganiami.\nOmówienie struktury wymagań.\nUżycie katalogów L1 do L7.\nSchemat oceny.\nPoszczególne elementy omawiane na podstawie ćwiczeń.\n\nLiteratura\n\nVDA 6.8\n\nWymagania wstępne\n\n\nMinimum 3 lata doświadczenia zawodowego w przemyśle\, w tym co najmniej 1 rok w obszarze działalności związanych z logistyką. \nUwaga: Pozytywne ukończenie testu po szkoleniu pozwala uzyskać certyfikat auditora wewnętrznego procesu VDA 6.8\, aby uzyskać uprawnienia auditora zewnętrznego procesu VDA 6.8 należy zdać egzamin (ID 962).\n\nEgzamin/test\nPo zakończonym szkoleniu przewidziany jest test pisemny dla uczestników\, weryfikujący nabytą wiedzę. \nPotwierdzenie kwalifikacji\nPo szkoleniu otrzymają Państwo eCertyfikat kwalifikacji VDA QMC. \nEfekty kształcenia \n\nZrozumienie ogólnych wymagań i zasad VDA 6.8.\nUmiejętność stosowania w praktyce katalogu pytań\, używając elementów procesu (L1-L7).\n\nSzkolenia powiązane(ID 961) - VDA 6.8 – Auditor procesu łańcucha dostaw – kurs kwalifikacyjny(ID 962) - VDA 6.8 – Auditor procesu łańcucha dostaw  – egzaminCena zawieraMateriały szkoleniowe w wersji PDF\, wydanie certyfikatu.
URL:https://sqda.pl/szkolenie/zgodnosc-wyrobu-cop-id-502/
LOCATION:Biuro SQD Alliance w Bielanach Wrocławskich\, Nektarowa 3\, Bielany Wrocławskie\, dolnośląskie\, 55-040
ORGANIZER;CN="SQD Alliance - Szkolenia":MAILTO:szkolenia@sqda.pl
END:VEVENT
BEGIN:VEVENT
DTSTART;TZID=Europe/Warsaw:20250116T090000
DTEND;TZID=Europe/Warsaw:20250117T160000
DTSTAMP:20260423T133347
CREATED:20240927T074135Z
LAST-MODIFIED:20250115T103254Z
UID:68657-1737018000-1737129600@sqda.pl
SUMMARY:Analiza części wadliwych z rynku wg VDA FFA - szkolenie dla użytkowników (ID 632)
DESCRIPTION:Opis szkolenia\nPodczas szkolenia omawiane są podstawowe informacje dotyczące auditów procesu w łańcuchu dostaw według VDA 6.8\, z uwzględnieniem podejścia procesowego i analizy ryzyka w branży motoryzacyjnej. \nUczestnicy dowiedzą się\, jakie wymagania są istotne w obszarach zarządzania projektami\, planowania i realizacji\, zarządzania dostawcami\, zaopatrzenia\, transportu\, logistyki magazynowej oraz relacji z klientami\, a także jak te wymagania mogą być wdrożone w praktyce. \nGrupa docelowa\nSzkolenie przeznaczone jest dla auditorów procesu VDA 6.3 z doświadczeniem zawodowym w obszarze działalności związanych z logistyką\, którzy chcą w przyszłości przeprowadzać audity wg VDA 6.8. \nZawartość\n\nPorównanie VDA 6.8 z innymi wymaganiami.\nOmówienie struktury wymagań.\nUżycie katalogów L1 do L7.\nSchemat oceny.\nPoszczególne elementy omawiane na podstawie ćwiczeń.\n\nLiteratura\n\nVDA 6.8\n\nWymagania wstępne\n\n\nMinimum 3 lata doświadczenia zawodowego w przemyśle\, w tym co najmniej 1 rok w obszarze działalności związanych z logistyką. \nUwaga: Pozytywne ukończenie testu po szkoleniu pozwala uzyskać certyfikat auditora wewnętrznego procesu VDA 6.8\, aby uzyskać uprawnienia auditora zewnętrznego procesu VDA 6.8 należy zdać egzamin (ID 962).\n\nEgzamin/test\nPo zakończonym szkoleniu przewidziany jest test pisemny dla uczestników\, weryfikujący nabytą wiedzę. \nPotwierdzenie kwalifikacji\nPo szkoleniu otrzymają Państwo eCertyfikat kwalifikacji VDA QMC. \nEfekty kształcenia \n\nZrozumienie ogólnych wymagań i zasad VDA 6.8.\nUmiejętność stosowania w praktyce katalogu pytań\, używając elementów procesu (L1-L7).\n\nSzkolenia powiązane(ID 961) - VDA 6.8 – Auditor procesu łańcucha dostaw – kurs kwalifikacyjny(ID 962) - VDA 6.8 – Auditor procesu łańcucha dostaw  – egzaminCena zawieraMateriały szkoleniowe w wersji PDF\, wydanie certyfikatu.
URL:https://sqda.pl/szkolenie/analiza-czesci-wadliwych-z-rynku-wg-vda-ffa-szkolenie-dla-uzytkownikow-id-632-16/
LOCATION:Szkolenie w systemie online
CATEGORIES:Narzędzia i kluczowe metody jakości,Podręcznik gratis
ORGANIZER;CN="SQD Alliance - Szkolenia":MAILTO:szkolenia@sqda.pl
END:VEVENT
BEGIN:VEVENT
DTSTART;TZID=Europe/Warsaw:20250116T090000
DTEND;TZID=Europe/Warsaw:20250117T160000
DTSTAMP:20260423T133347
CREATED:20240927T083803Z
LAST-MODIFIED:20240927T083803Z
UID:68673-1737018000-1737129600@sqda.pl
SUMMARY:Kluczowe metody jakości przemysłu motoryzacyjnego dla auditorów systemu i procesu (ID 417)
DESCRIPTION:Opis szkolenia\nPodczas szkolenia omawiane są podstawowe informacje dotyczące auditów procesu w łańcuchu dostaw według VDA 6.8\, z uwzględnieniem podejścia procesowego i analizy ryzyka w branży motoryzacyjnej. \nUczestnicy dowiedzą się\, jakie wymagania są istotne w obszarach zarządzania projektami\, planowania i realizacji\, zarządzania dostawcami\, zaopatrzenia\, transportu\, logistyki magazynowej oraz relacji z klientami\, a także jak te wymagania mogą być wdrożone w praktyce. \nGrupa docelowa\nSzkolenie przeznaczone jest dla auditorów procesu VDA 6.3 z doświadczeniem zawodowym w obszarze działalności związanych z logistyką\, którzy chcą w przyszłości przeprowadzać audity wg VDA 6.8. \nZawartość\n\nPorównanie VDA 6.8 z innymi wymaganiami.\nOmówienie struktury wymagań.\nUżycie katalogów L1 do L7.\nSchemat oceny.\nPoszczególne elementy omawiane na podstawie ćwiczeń.\n\nLiteratura\n\nVDA 6.8\n\nWymagania wstępne\n\n\nMinimum 3 lata doświadczenia zawodowego w przemyśle\, w tym co najmniej 1 rok w obszarze działalności związanych z logistyką. \nUwaga: Pozytywne ukończenie testu po szkoleniu pozwala uzyskać certyfikat auditora wewnętrznego procesu VDA 6.8\, aby uzyskać uprawnienia auditora zewnętrznego procesu VDA 6.8 należy zdać egzamin (ID 962).\n\nEgzamin/test\nPo zakończonym szkoleniu przewidziany jest test pisemny dla uczestników\, weryfikujący nabytą wiedzę. \nPotwierdzenie kwalifikacji\nPo szkoleniu otrzymają Państwo eCertyfikat kwalifikacji VDA QMC. \nEfekty kształcenia \n\nZrozumienie ogólnych wymagań i zasad VDA 6.8.\nUmiejętność stosowania w praktyce katalogu pytań\, używając elementów procesu (L1-L7).\n\nSzkolenia powiązane(ID 961) - VDA 6.8 – Auditor procesu łańcucha dostaw – kurs kwalifikacyjny(ID 962) - VDA 6.8 – Auditor procesu łańcucha dostaw  – egzaminCena zawieraMateriały szkoleniowe w wersji PDF\, wydanie certyfikatu.
URL:https://sqda.pl/szkolenie/kluczowe-metody-jakosci-przemyslu-motoryzacyjnego-dla-auditorow-systemu-i-procesu-id-417-63/
LOCATION:Szkolenie w systemie online
CATEGORIES:Narzędzia i kluczowe metody jakości
ORGANIZER;CN="SQD Alliance - Szkolenia":MAILTO:szkolenia@sqda.pl
END:VEVENT
BEGIN:VEVENT
DTSTART;TZID=Europe/Warsaw:20250116T090000
DTEND;TZID=Europe/Warsaw:20250117T160000
DTSTAMP:20260423T133347
CREATED:20241001T055929Z
LAST-MODIFIED:20241001T055945Z
UID:68785-1737018000-1737129600@sqda.pl
SUMMARY:Automotive Core Tools for Process and System Auditors (ID 417EN)
DESCRIPTION:Opis szkolenia\nPodczas szkolenia omawiane są podstawowe informacje dotyczące auditów procesu w łańcuchu dostaw według VDA 6.8\, z uwzględnieniem podejścia procesowego i analizy ryzyka w branży motoryzacyjnej. \nUczestnicy dowiedzą się\, jakie wymagania są istotne w obszarach zarządzania projektami\, planowania i realizacji\, zarządzania dostawcami\, zaopatrzenia\, transportu\, logistyki magazynowej oraz relacji z klientami\, a także jak te wymagania mogą być wdrożone w praktyce. \nGrupa docelowa\nSzkolenie przeznaczone jest dla auditorów procesu VDA 6.3 z doświadczeniem zawodowym w obszarze działalności związanych z logistyką\, którzy chcą w przyszłości przeprowadzać audity wg VDA 6.8. \nZawartość\n\nPorównanie VDA 6.8 z innymi wymaganiami.\nOmówienie struktury wymagań.\nUżycie katalogów L1 do L7.\nSchemat oceny.\nPoszczególne elementy omawiane na podstawie ćwiczeń.\n\nLiteratura\n\nVDA 6.8\n\nWymagania wstępne\n\n\nMinimum 3 lata doświadczenia zawodowego w przemyśle\, w tym co najmniej 1 rok w obszarze działalności związanych z logistyką. \nUwaga: Pozytywne ukończenie testu po szkoleniu pozwala uzyskać certyfikat auditora wewnętrznego procesu VDA 6.8\, aby uzyskać uprawnienia auditora zewnętrznego procesu VDA 6.8 należy zdać egzamin (ID 962).\n\nEgzamin/test\nPo zakończonym szkoleniu przewidziany jest test pisemny dla uczestników\, weryfikujący nabytą wiedzę. \nPotwierdzenie kwalifikacji\nPo szkoleniu otrzymają Państwo eCertyfikat kwalifikacji VDA QMC. \nEfekty kształcenia \n\nZrozumienie ogólnych wymagań i zasad VDA 6.8.\nUmiejętność stosowania w praktyce katalogu pytań\, używając elementów procesu (L1-L7).\n\nSzkolenia powiązane(ID 961) - VDA 6.8 – Auditor procesu łańcucha dostaw – kurs kwalifikacyjny(ID 962) - VDA 6.8 – Auditor procesu łańcucha dostaw  – egzaminCena zawieraMateriały szkoleniowe w wersji PDF\, wydanie certyfikatu.
URL:https://sqda.pl/szkolenie/automotive-core-tools-for-process-and-system-auditors-id-417en-4/
LOCATION:Szkolenie w systemie online
ORGANIZER;CN="SQD Alliance - Szkolenia":MAILTO:szkolenia@sqda.pl
END:VEVENT
BEGIN:VEVENT
DTSTART;TZID=Europe/Warsaw:20250120T090000
DTEND;TZID=Europe/Warsaw:20250121T160000
DTSTAMP:20260423T133347
CREATED:20211130T083222Z
LAST-MODIFIED:20241031T083116Z
UID:38209-1737363600-1737475200@sqda.pl
SUMMARY:VDA 19.1 Technical Cleanliness in the Automotive Industry. Qualification for “VDA 19.1 Skilled Assistant” (ID 973) - training in English
DESCRIPTION:Opis szkolenia\nPodczas szkolenia omawiane są podstawowe informacje dotyczące auditów procesu w łańcuchu dostaw według VDA 6.8\, z uwzględnieniem podejścia procesowego i analizy ryzyka w branży motoryzacyjnej. \nUczestnicy dowiedzą się\, jakie wymagania są istotne w obszarach zarządzania projektami\, planowania i realizacji\, zarządzania dostawcami\, zaopatrzenia\, transportu\, logistyki magazynowej oraz relacji z klientami\, a także jak te wymagania mogą być wdrożone w praktyce. \nGrupa docelowa\nSzkolenie przeznaczone jest dla auditorów procesu VDA 6.3 z doświadczeniem zawodowym w obszarze działalności związanych z logistyką\, którzy chcą w przyszłości przeprowadzać audity wg VDA 6.8. \nZawartość\n\nPorównanie VDA 6.8 z innymi wymaganiami.\nOmówienie struktury wymagań.\nUżycie katalogów L1 do L7.\nSchemat oceny.\nPoszczególne elementy omawiane na podstawie ćwiczeń.\n\nLiteratura\n\nVDA 6.8\n\nWymagania wstępne\n\n\nMinimum 3 lata doświadczenia zawodowego w przemyśle\, w tym co najmniej 1 rok w obszarze działalności związanych z logistyką. \nUwaga: Pozytywne ukończenie testu po szkoleniu pozwala uzyskać certyfikat auditora wewnętrznego procesu VDA 6.8\, aby uzyskać uprawnienia auditora zewnętrznego procesu VDA 6.8 należy zdać egzamin (ID 962).\n\nEgzamin/test\nPo zakończonym szkoleniu przewidziany jest test pisemny dla uczestników\, weryfikujący nabytą wiedzę. \nPotwierdzenie kwalifikacji\nPo szkoleniu otrzymają Państwo eCertyfikat kwalifikacji VDA QMC. \nEfekty kształcenia \n\nZrozumienie ogólnych wymagań i zasad VDA 6.8.\nUmiejętność stosowania w praktyce katalogu pytań\, używając elementów procesu (L1-L7).\n\nSzkolenia powiązane(ID 961) - VDA 6.8 – Auditor procesu łańcucha dostaw – kurs kwalifikacyjny(ID 962) - VDA 6.8 – Auditor procesu łańcucha dostaw  – egzaminCena zawieraMateriały szkoleniowe w wersji PDF\, wydanie certyfikatu.
URL:https://sqda.pl/szkolenie/vda-19-1-technical-cleanliness-in-the-automotive-industry-qualification-for-vda-19-1-skilled-assistant-id-973-training-in-english/
LOCATION:Szkolenie w systemie online
CATEGORIES:Narzędzia i kluczowe metody jakości
ORGANIZER;CN="SQD Alliance - Szkolenia":MAILTO:szkolenia@sqda.pl
END:VEVENT
BEGIN:VEVENT
DTSTART;TZID=Europe/Warsaw:20250122T090000
DTEND;TZID=Europe/Warsaw:20250123T160000
DTSTAMP:20260423T133347
CREATED:20240927T093241Z
LAST-MODIFIED:20240927T093241Z
UID:68698-1737536400-1737648000@sqda.pl
SUMMARY:Przedstawiciel ds. bezpieczeństwa i zgodności wyrobu (PSCR) (ID 503)
DESCRIPTION:Opis szkolenia\nPodczas szkolenia omawiane są podstawowe informacje dotyczące auditów procesu w łańcuchu dostaw według VDA 6.8\, z uwzględnieniem podejścia procesowego i analizy ryzyka w branży motoryzacyjnej. \nUczestnicy dowiedzą się\, jakie wymagania są istotne w obszarach zarządzania projektami\, planowania i realizacji\, zarządzania dostawcami\, zaopatrzenia\, transportu\, logistyki magazynowej oraz relacji z klientami\, a także jak te wymagania mogą być wdrożone w praktyce. \nGrupa docelowa\nSzkolenie przeznaczone jest dla auditorów procesu VDA 6.3 z doświadczeniem zawodowym w obszarze działalności związanych z logistyką\, którzy chcą w przyszłości przeprowadzać audity wg VDA 6.8. \nZawartość\n\nPorównanie VDA 6.8 z innymi wymaganiami.\nOmówienie struktury wymagań.\nUżycie katalogów L1 do L7.\nSchemat oceny.\nPoszczególne elementy omawiane na podstawie ćwiczeń.\n\nLiteratura\n\nVDA 6.8\n\nWymagania wstępne\n\n\nMinimum 3 lata doświadczenia zawodowego w przemyśle\, w tym co najmniej 1 rok w obszarze działalności związanych z logistyką. \nUwaga: Pozytywne ukończenie testu po szkoleniu pozwala uzyskać certyfikat auditora wewnętrznego procesu VDA 6.8\, aby uzyskać uprawnienia auditora zewnętrznego procesu VDA 6.8 należy zdać egzamin (ID 962).\n\nEgzamin/test\nPo zakończonym szkoleniu przewidziany jest test pisemny dla uczestników\, weryfikujący nabytą wiedzę. \nPotwierdzenie kwalifikacji\nPo szkoleniu otrzymają Państwo eCertyfikat kwalifikacji VDA QMC. \nEfekty kształcenia \n\nZrozumienie ogólnych wymagań i zasad VDA 6.8.\nUmiejętność stosowania w praktyce katalogu pytań\, używając elementów procesu (L1-L7).\n\nSzkolenia powiązane(ID 961) - VDA 6.8 – Auditor procesu łańcucha dostaw – kurs kwalifikacyjny(ID 962) - VDA 6.8 – Auditor procesu łańcucha dostaw  – egzaminCena zawieraMateriały szkoleniowe w wersji PDF\, wydanie certyfikatu.
URL:https://sqda.pl/szkolenie/przedstawiciel-ds-bezpieczenstwa-i-zgodnosci-wyrobu-pscr-id-503-54/
LOCATION:Szkolenie w systemie online
CATEGORIES:Narzędzia i kluczowe metody jakości
ORGANIZER;CN="SQD Alliance - Szkolenia":MAILTO:szkolenia@sqda.pl
END:VEVENT
BEGIN:VEVENT
DTSTART;TZID=Europe/Warsaw:20250127T090000
DTEND;TZID=Europe/Warsaw:20250130T160000
DTSTAMP:20260423T133347
CREATED:20240926T083255Z
LAST-MODIFIED:20240926T083255Z
UID:68500-1737968400-1738252800@sqda.pl
SUMMARY:VDA 6.3:2023 - Auditor procesu – kurs kwalifikacyjny (ID 381)
DESCRIPTION:Opis szkolenia\nPodczas szkolenia omawiane są podstawowe informacje dotyczące auditów procesu w łańcuchu dostaw według VDA 6.8\, z uwzględnieniem podejścia procesowego i analizy ryzyka w branży motoryzacyjnej. \nUczestnicy dowiedzą się\, jakie wymagania są istotne w obszarach zarządzania projektami\, planowania i realizacji\, zarządzania dostawcami\, zaopatrzenia\, transportu\, logistyki magazynowej oraz relacji z klientami\, a także jak te wymagania mogą być wdrożone w praktyce. \nGrupa docelowa\nSzkolenie przeznaczone jest dla auditorów procesu VDA 6.3 z doświadczeniem zawodowym w obszarze działalności związanych z logistyką\, którzy chcą w przyszłości przeprowadzać audity wg VDA 6.8. \nZawartość\n\nPorównanie VDA 6.8 z innymi wymaganiami.\nOmówienie struktury wymagań.\nUżycie katalogów L1 do L7.\nSchemat oceny.\nPoszczególne elementy omawiane na podstawie ćwiczeń.\n\nLiteratura\n\nVDA 6.8\n\nWymagania wstępne\n\n\nMinimum 3 lata doświadczenia zawodowego w przemyśle\, w tym co najmniej 1 rok w obszarze działalności związanych z logistyką. \nUwaga: Pozytywne ukończenie testu po szkoleniu pozwala uzyskać certyfikat auditora wewnętrznego procesu VDA 6.8\, aby uzyskać uprawnienia auditora zewnętrznego procesu VDA 6.8 należy zdać egzamin (ID 962).\n\nEgzamin/test\nPo zakończonym szkoleniu przewidziany jest test pisemny dla uczestników\, weryfikujący nabytą wiedzę. \nPotwierdzenie kwalifikacji\nPo szkoleniu otrzymają Państwo eCertyfikat kwalifikacji VDA QMC. \nEfekty kształcenia \n\nZrozumienie ogólnych wymagań i zasad VDA 6.8.\nUmiejętność stosowania w praktyce katalogu pytań\, używając elementów procesu (L1-L7).\n\nSzkolenia powiązane(ID 961) - VDA 6.8 – Auditor procesu łańcucha dostaw – kurs kwalifikacyjny(ID 962) - VDA 6.8 – Auditor procesu łańcucha dostaw  – egzaminCena zawieraMateriały szkoleniowe w wersji PDF\, wydanie certyfikatu.
URL:https://sqda.pl/szkolenie/vda-6-32023-auditor-procesu-kurs-kwalifikacyjny-id-381-30/
LOCATION:Biuro SQD Alliance w Pszczynie\, ul. Batorego 19\, Pszczyna\, śląskie\, 43-200
CATEGORIES:Auditowanie,Podręcznik gratis
ORGANIZER;CN="SQD Alliance - Szkolenia":MAILTO:szkolenia@sqda.pl
END:VEVENT
BEGIN:VEVENT
DTSTART;TZID=Europe/Warsaw:20250131T090000
DTEND;TZID=Europe/Warsaw:20250131T160000
DTSTAMP:20260423T133347
CREATED:20240926T095540Z
LAST-MODIFIED:20250116T093311Z
UID:68538-1738314000-1738339200@sqda.pl
SUMMARY:VDA 6.3:2023 – Auditor procesu – egzamin (ID 382)
DESCRIPTION:Opis szkolenia\nPodczas szkolenia omawiane są podstawowe informacje dotyczące auditów procesu w łańcuchu dostaw według VDA 6.8\, z uwzględnieniem podejścia procesowego i analizy ryzyka w branży motoryzacyjnej. \nUczestnicy dowiedzą się\, jakie wymagania są istotne w obszarach zarządzania projektami\, planowania i realizacji\, zarządzania dostawcami\, zaopatrzenia\, transportu\, logistyki magazynowej oraz relacji z klientami\, a także jak te wymagania mogą być wdrożone w praktyce. \nGrupa docelowa\nSzkolenie przeznaczone jest dla auditorów procesu VDA 6.3 z doświadczeniem zawodowym w obszarze działalności związanych z logistyką\, którzy chcą w przyszłości przeprowadzać audity wg VDA 6.8. \nZawartość\n\nPorównanie VDA 6.8 z innymi wymaganiami.\nOmówienie struktury wymagań.\nUżycie katalogów L1 do L7.\nSchemat oceny.\nPoszczególne elementy omawiane na podstawie ćwiczeń.\n\nLiteratura\n\nVDA 6.8\n\nWymagania wstępne\n\n\nMinimum 3 lata doświadczenia zawodowego w przemyśle\, w tym co najmniej 1 rok w obszarze działalności związanych z logistyką. \nUwaga: Pozytywne ukończenie testu po szkoleniu pozwala uzyskać certyfikat auditora wewnętrznego procesu VDA 6.8\, aby uzyskać uprawnienia auditora zewnętrznego procesu VDA 6.8 należy zdać egzamin (ID 962).\n\nEgzamin/test\nPo zakończonym szkoleniu przewidziany jest test pisemny dla uczestników\, weryfikujący nabytą wiedzę. \nPotwierdzenie kwalifikacji\nPo szkoleniu otrzymają Państwo eCertyfikat kwalifikacji VDA QMC. \nEfekty kształcenia \n\nZrozumienie ogólnych wymagań i zasad VDA 6.8.\nUmiejętność stosowania w praktyce katalogu pytań\, używając elementów procesu (L1-L7).\n\nSzkolenia powiązane(ID 961) - VDA 6.8 – Auditor procesu łańcucha dostaw – kurs kwalifikacyjny(ID 962) - VDA 6.8 – Auditor procesu łańcucha dostaw  – egzaminCena zawieraMateriały szkoleniowe w wersji PDF\, wydanie certyfikatu.
URL:https://sqda.pl/szkolenie/vda-6-32023-auditor-procesu-egzamin-id-382-21/
LOCATION:Biuro SQD Alliance w Pszczynie\, ul. Batorego 19\, Pszczyna\, śląskie\, 43-200
CATEGORIES:Auditowanie
ORGANIZER;CN="SQD Alliance - Szkolenia":MAILTO:szkolenia@sqda.pl
END:VEVENT
END:VCALENDAR