BEGIN:VCALENDAR
VERSION:2.0
PRODID:-//SQD Alliance - ECPv6.13.2.1//NONSGML v1.0//EN
CALSCALE:GREGORIAN
METHOD:PUBLISH
X-ORIGINAL-URL:https://sqda.pl
X-WR-CALDESC:Wydarzenia dla SQD Alliance
REFRESH-INTERVAL;VALUE=DURATION:PT1H
X-Robots-Tag:noindex
X-PUBLISHED-TTL:PT1H
BEGIN:VTIMEZONE
TZID:Europe/Warsaw
BEGIN:DAYLIGHT
TZOFFSETFROM:+0100
TZOFFSETTO:+0200
TZNAME:CEST
DTSTART:20260329T010000
END:DAYLIGHT
BEGIN:STANDARD
TZOFFSETFROM:+0200
TZOFFSETTO:+0100
TZNAME:CET
DTSTART:20261025T010000
END:STANDARD
END:VTIMEZONE
BEGIN:VEVENT
DTSTART;TZID=Europe/Warsaw:20260803T090000
DTEND;TZID=Europe/Warsaw:20260803T160000
DTSTAMP:20260422T174932
CREATED:20251023T100205Z
LAST-MODIFIED:20260415T121347Z
UID:74882-1785747600-1785772800@sqda.pl
SUMMARY:System zgodności wyrobu – podstawy (ID 534)
DESCRIPTION:
URL:https://sqda.pl/szkolenie/system-zgodnosci-wyrobu-podstawy-id-534-3/
LOCATION:Szkolenie w systemie online
ORGANIZER;CN="SQD Alliance - Szkolenia":MAILTO:szkolenia@sqda.pl
END:VEVENT
BEGIN:VEVENT
DTSTART;TZID=Europe/Warsaw:20260803T090000
DTEND;TZID=Europe/Warsaw:20260804T160000
DTSTAMP:20260422T174932
CREATED:20251023T094556Z
LAST-MODIFIED:20251205T093348Z
UID:74864-1785747600-1785859200@sqda.pl
SUMMARY:Kluczowe metody jakości przemysłu motoryzacyjnego dla auditorów systemu i procesu (ID 417)
DESCRIPTION:Aby zapewnić wysoką jakość czynności auditowych w przedsiębiorstwach i całym łańcuchu dostaw\, auditorzy muszą posiadać odpowiednie kompetencje w odniesieniu do poszczególnych metod. IATF 16949 wyraźnie podkreśla ten wymóg dotyczący kompetencji auditorów. Skuteczne podejście podczas auditów jest ważnym czynnikiem sukcesu. Szkolenie dotyczy typowych sytuacji auditowych związanych z kluczowymi metodami jakości (core tools). \nGrupa docelowa \nTo dwudniowe szkolenie skierowane jest do wykwalifikowanych auditorów procesu VDA 6.3\, którzy chcą ubiegać się o odnowienie uprawnień\, a także potencjalnych auditorów procesu VDA 6.3 i systemu IATF\, którzy pragną zdobyć kwalifikacje. \nZawartość \n\nWykłady teoretyczne dotyczące poszczególnych kluczowych metod jakości:\n\nVDA MLA / APQP\,\nVDA 2 / PPAP\,\nVDA 5 / MSA\,\nCmk / Ppk / Cpk / SPC\,\n8D.\n\n\nPrzykłady praktyczne omówione w czasie ćwiczeń.\nPraktyczne zastosowanie kluczowych metod przez uczestników.\nĆwiczenia w grupach i indywidualne.\nPanele dyskusyjne.\n\nLiteratura \n\nAPQP AIAG\nVDA MLA\nPPAP AIAG\nVDA 2\nFMEA\nVDA 4\nMSA\nSPC\n\nWymagania wstępne \nSzkolenie to jest przeznaczone dla auditorów\, którzy mają ugruntowaną wiedzę odnośnie podstawowych narzędzi branży motoryzacyjnej. Ukierunkowane jest ono na poszerzenie informacji odnośnie sposobu auditowania poszczególnych metod. Powyższa lista literatury jest przeznaczona do samodzielnego studiowania w celu wcześniejszego uzyskania niezbędnej podstawowej wiedzy. \nEgzamin/test \nPo zakończonym szkoleniu przewidziany jest test pisemny dla uczestników\, weryfikujący nabytą wiedzę. \nPotwierdzenie kwalifikacji \nPo przeprowadzonym szkoleniu otrzymają Państwo oryginalny certyfikat kwalifikacji VDA QMC. \nEfekty kształcenia \n\nMożliwość przećwiczenia typowych sytuacji auditowych w kontekście kluczowych metod jakości (core tools).\nOcena poprawności zastosowania odpowiednich technik auditowych.\nOcena typowych sytuacji dla poszczególnych przypadków auditowych.\nUgruntowanie i poszerzenie wiedzy na temat kluczowych metod jakości stosowanych w przemyśle motoryzacyjnym.\nMożliwość omówienia problematycznych zagadnień związanych z procesami i metodami w motoryzacji\, dotyczącymi zakresu szkolenia.\n\nPowiązane szkolenia \n\nID 315 – Auditor procesu VDA 6.3. Produkcja seryjna – kurs kwalifikacyjny\nID 353 – Certyfikowany auditor procesu VDA 6.3 – egzamin\nID 415 – Kluczowe metody jakości przemysłu motoryzacyjnego. Moduł I (APQP / VDA MLA\, PPAP / VDA 2\, PFC\, FMEA\, CP)\nID 416 – Kluczowe metody jakości przemysłu motoryzacyjnego. Moduł II (SPC\, MSA / VDA 5)\nID 450 – Certyfikowany profesjonalista kluczowych metod jakości przemysłu motoryzacyjnego. Egzamin\n\nCena zawiera \nMateriały szkoleniowe\, wydanie certyfikatu\, obiad\, przerwy kawowe\, komfortową salę wykładową z pełnym wyposażeniem multimedialnym. \nPodręcznik VDA MLA i VDA 2 w j. polskim w cenie szkolenia otwartego dla każdego uczestnika.
URL:https://sqda.pl/szkolenie/kluczowe-metody-jakosci-przemyslu-motoryzacyjnego-dla-auditorow-systemu-i-procesu-id-417-79/
LOCATION:Szkolenie w systemie online
CATEGORIES:Narzędzia i kluczowe metody jakości,Podręcznik gratis
ORGANIZER;CN="SQD Alliance - Szkolenia":MAILTO:szkolenia@sqda.pl
END:VEVENT
BEGIN:VEVENT
DTSTART;TZID=Europe/Warsaw:20260804T090000
DTEND;TZID=Europe/Warsaw:20260804T160000
DTSTAMP:20260422T174932
CREATED:20251023T121312Z
LAST-MODIFIED:20251023T121312Z
UID:74948-1785834000-1785859200@sqda.pl
SUMMARY:Zastosowanie wymagań prawnych w branży motoryzacyjnej (ID 9600)
DESCRIPTION:Opis szkolenia\nPodczas szkolenia omawiane są podstawowe informacje dotyczące auditów procesu w łańcuchu dostaw według VDA 6.8\, z uwzględnieniem podejścia procesowego i analizy ryzyka w branży motoryzacyjnej. \nUczestnicy dowiedzą się\, jakie wymagania są istotne w obszarach zarządzania projektami\, planowania i realizacji\, zarządzania dostawcami\, zaopatrzenia\, transportu\, logistyki magazynowej oraz relacji z klientami\, a także jak te wymagania mogą być wdrożone w praktyce. \nGrupa docelowa\nSzkolenie przeznaczone jest dla auditorów procesu VDA 6.3 z doświadczeniem zawodowym w obszarze działalności związanych z logistyką\, którzy chcą w przyszłości przeprowadzać audity wg VDA 6.8. \nZawartość\n\nPorównanie VDA 6.8 z innymi wymaganiami.\nOmówienie struktury wymagań.\nUżycie katalogów L1 do L7.\nSchemat oceny.\nPoszczególne elementy omawiane na podstawie ćwiczeń.\n\nLiteratura\n\nVDA 6.8\n\nWymagania wstępne\n\n\nMinimum 3 lata doświadczenia zawodowego w przemyśle\, w tym co najmniej 1 rok w obszarze działalności związanych z logistyką. \nUwaga: Pozytywne ukończenie testu po szkoleniu pozwala uzyskać certyfikat auditora wewnętrznego procesu VDA 6.8\, aby uzyskać uprawnienia auditora zewnętrznego procesu VDA 6.8 należy zdać egzamin (ID 962).\n\nEgzamin/test\nPo zakończonym szkoleniu przewidziany jest test pisemny dla uczestników\, weryfikujący nabytą wiedzę. \nPotwierdzenie kwalifikacji\nPo szkoleniu otrzymają Państwo eCertyfikat kwalifikacji VDA QMC. \nEfekty kształcenia \n\nZrozumienie ogólnych wymagań i zasad VDA 6.8.\nUmiejętność stosowania w praktyce katalogu pytań\, używając elementów procesu (L1-L7).\n\nSzkolenia powiązane(ID 961) - VDA 6.8 – Auditor procesu łańcucha dostaw – kurs kwalifikacyjny(ID 962) - VDA 6.8 – Auditor procesu łańcucha dostaw  – egzaminCena zawieraMateriały szkoleniowe w wersji PDF\, wydanie certyfikatu.
URL:https://sqda.pl/szkolenie/zastosowanie-wymagan-prawnych-w-branzy-motoryzacyjnej-id-9600-3/
LOCATION:Szkolenie w systemie online
CATEGORIES:Narzędzia i kluczowe metody jakości
ORGANIZER;CN="SQD Alliance - Szkolenia":MAILTO:szkolenia@sqda.pl
END:VEVENT
BEGIN:VEVENT
DTSTART;TZID=Europe/Warsaw:20260805T090000
DTEND;TZID=Europe/Warsaw:20260806T160000
DTSTAMP:20260422T174932
CREATED:20251023T121449Z
LAST-MODIFIED:20251205T094415Z
UID:74950-1785920400-1786032000@sqda.pl
SUMMARY:AIAG CQI 30 Proces specjalny: ocena systemu przetwarzania gumy – mieszanie i formowanie (ID 9311)
DESCRIPTION:
URL:https://sqda.pl/szkolenie/aiag-cqi-30-proces-specjalny-ocena-systemu-przetwarzania-gumy-mieszanie-i-formowanie-id-9311-3/
LOCATION:Szkolenie w systemie online
ORGANIZER;CN="SQD Alliance - Szkolenia":MAILTO:szkolenia@sqda.pl
END:VEVENT
BEGIN:VEVENT
DTSTART;TZID=Europe/Warsaw:20260824T090000
DTEND;TZID=Europe/Warsaw:20260827T160000
DTSTAMP:20260422T174932
CREATED:20251021T120758Z
LAST-MODIFIED:20260410T070533Z
UID:74696-1787562000-1787846400@sqda.pl
SUMMARY:VDA 6.3:2023 - Auditor procesu – kurs kwalifikacyjny (ID 381)
DESCRIPTION:Opis szkolenia\nPodczas szkolenia omawiane są podstawowe informacje dotyczące auditów procesu w łańcuchu dostaw według VDA 6.8\, z uwzględnieniem podejścia procesowego i analizy ryzyka w branży motoryzacyjnej. \nUczestnicy dowiedzą się\, jakie wymagania są istotne w obszarach zarządzania projektami\, planowania i realizacji\, zarządzania dostawcami\, zaopatrzenia\, transportu\, logistyki magazynowej oraz relacji z klientami\, a także jak te wymagania mogą być wdrożone w praktyce. \nGrupa docelowa\nSzkolenie przeznaczone jest dla auditorów procesu VDA 6.3 z doświadczeniem zawodowym w obszarze działalności związanych z logistyką\, którzy chcą w przyszłości przeprowadzać audity wg VDA 6.8. \nZawartość\n\nPorównanie VDA 6.8 z innymi wymaganiami.\nOmówienie struktury wymagań.\nUżycie katalogów L1 do L7.\nSchemat oceny.\nPoszczególne elementy omawiane na podstawie ćwiczeń.\n\nLiteratura\n\nVDA 6.8\n\nWymagania wstępne\n\n\nMinimum 3 lata doświadczenia zawodowego w przemyśle\, w tym co najmniej 1 rok w obszarze działalności związanych z logistyką. \nUwaga: Pozytywne ukończenie testu po szkoleniu pozwala uzyskać certyfikat auditora wewnętrznego procesu VDA 6.8\, aby uzyskać uprawnienia auditora zewnętrznego procesu VDA 6.8 należy zdać egzamin (ID 962).\n\nEgzamin/test\nPo zakończonym szkoleniu przewidziany jest test pisemny dla uczestników\, weryfikujący nabytą wiedzę. \nPotwierdzenie kwalifikacji\nPo szkoleniu otrzymają Państwo eCertyfikat kwalifikacji VDA QMC. \nEfekty kształcenia \n\nZrozumienie ogólnych wymagań i zasad VDA 6.8.\nUmiejętność stosowania w praktyce katalogu pytań\, używając elementów procesu (L1-L7).\n\nSzkolenia powiązane(ID 961) - VDA 6.8 – Auditor procesu łańcucha dostaw – kurs kwalifikacyjny(ID 962) - VDA 6.8 – Auditor procesu łańcucha dostaw  – egzaminCena zawieraMateriały szkoleniowe w wersji PDF\, wydanie certyfikatu.
URL:https://sqda.pl/szkolenie/vda-6-32023-auditor-procesu-kurs-kwalifikacyjny-id-381-56/
LOCATION:Szkolenie w systemie online
CATEGORIES:Auditowanie,Podręcznik gratis
ORGANIZER;CN="SQD Alliance - Szkolenia":MAILTO:szkolenia@sqda.pl
END:VEVENT
BEGIN:VEVENT
DTSTART;TZID=Europe/Warsaw:20260825T083000
DTEND;TZID=Europe/Warsaw:20260825T140000
DTSTAMP:20260422T174932
CREATED:20251205T134821Z
LAST-MODIFIED:20251205T134821Z
UID:75660-1787646600-1787666400@sqda.pl
SUMMARY:Nowoczesne metody pracy służb BHP. Psychologiczne przyczyny wypadków w pracy (ID 3217) - online
DESCRIPTION:Opis szkolenia\nPodczas szkolenia omawiane są podstawowe informacje dotyczące auditów procesu w łańcuchu dostaw według VDA 6.8\, z uwzględnieniem podejścia procesowego i analizy ryzyka w branży motoryzacyjnej. \nUczestnicy dowiedzą się\, jakie wymagania są istotne w obszarach zarządzania projektami\, planowania i realizacji\, zarządzania dostawcami\, zaopatrzenia\, transportu\, logistyki magazynowej oraz relacji z klientami\, a także jak te wymagania mogą być wdrożone w praktyce. \nGrupa docelowa\nSzkolenie przeznaczone jest dla auditorów procesu VDA 6.3 z doświadczeniem zawodowym w obszarze działalności związanych z logistyką\, którzy chcą w przyszłości przeprowadzać audity wg VDA 6.8. \nZawartość\n\nPorównanie VDA 6.8 z innymi wymaganiami.\nOmówienie struktury wymagań.\nUżycie katalogów L1 do L7.\nSchemat oceny.\nPoszczególne elementy omawiane na podstawie ćwiczeń.\n\nLiteratura\n\nVDA 6.8\n\nWymagania wstępne\n\n\nMinimum 3 lata doświadczenia zawodowego w przemyśle\, w tym co najmniej 1 rok w obszarze działalności związanych z logistyką. \nUwaga: Pozytywne ukończenie testu po szkoleniu pozwala uzyskać certyfikat auditora wewnętrznego procesu VDA 6.8\, aby uzyskać uprawnienia auditora zewnętrznego procesu VDA 6.8 należy zdać egzamin (ID 962).\n\nEgzamin/test\nPo zakończonym szkoleniu przewidziany jest test pisemny dla uczestników\, weryfikujący nabytą wiedzę. \nPotwierdzenie kwalifikacji\nPo szkoleniu otrzymają Państwo eCertyfikat kwalifikacji VDA QMC. \nEfekty kształcenia \n\nZrozumienie ogólnych wymagań i zasad VDA 6.8.\nUmiejętność stosowania w praktyce katalogu pytań\, używając elementów procesu (L1-L7).\n\nSzkolenia powiązane(ID 961) - VDA 6.8 – Auditor procesu łańcucha dostaw – kurs kwalifikacyjny(ID 962) - VDA 6.8 – Auditor procesu łańcucha dostaw  – egzaminCena zawieraMateriały szkoleniowe w wersji PDF\, wydanie certyfikatu.
URL:https://sqda.pl/szkolenie/nowoczesne-metody-pracy-sluzb-bhp-psychologiczne-przyczyny-wypadkow-w-pracy-id-3217-online-18/
LOCATION:Szkolenie w systemie online
CATEGORIES:Bezpieczeństwo pracy
ORGANIZER;CN="Szkolenia OHS":MAILTO:szkolenia.ohs@sqda.pl
END:VEVENT
BEGIN:VEVENT
DTSTART;TZID=Europe/Warsaw:20260825T083000
DTEND;TZID=Europe/Warsaw:20260828T150000
DTSTAMP:20260422T174932
CREATED:20251204T113032Z
LAST-MODIFIED:20251204T113032Z
UID:75573-1787646600-1787929200@sqda.pl
SUMMARY:Szkolenie okresowe w zakresie bezpieczeństwa i higieny pracy dla pracowników służby bhp i osób wykonujących zadania tej służby – szkolenie online (ID 3028)
DESCRIPTION:Opis szkolenia\nPodczas szkolenia omawiane są podstawowe informacje dotyczące auditów procesu w łańcuchu dostaw według VDA 6.8\, z uwzględnieniem podejścia procesowego i analizy ryzyka w branży motoryzacyjnej. \nUczestnicy dowiedzą się\, jakie wymagania są istotne w obszarach zarządzania projektami\, planowania i realizacji\, zarządzania dostawcami\, zaopatrzenia\, transportu\, logistyki magazynowej oraz relacji z klientami\, a także jak te wymagania mogą być wdrożone w praktyce. \nGrupa docelowa\nSzkolenie przeznaczone jest dla auditorów procesu VDA 6.3 z doświadczeniem zawodowym w obszarze działalności związanych z logistyką\, którzy chcą w przyszłości przeprowadzać audity wg VDA 6.8. \nZawartość\n\nPorównanie VDA 6.8 z innymi wymaganiami.\nOmówienie struktury wymagań.\nUżycie katalogów L1 do L7.\nSchemat oceny.\nPoszczególne elementy omawiane na podstawie ćwiczeń.\n\nLiteratura\n\nVDA 6.8\n\nWymagania wstępne\n\n\nMinimum 3 lata doświadczenia zawodowego w przemyśle\, w tym co najmniej 1 rok w obszarze działalności związanych z logistyką. \nUwaga: Pozytywne ukończenie testu po szkoleniu pozwala uzyskać certyfikat auditora wewnętrznego procesu VDA 6.8\, aby uzyskać uprawnienia auditora zewnętrznego procesu VDA 6.8 należy zdać egzamin (ID 962).\n\nEgzamin/test\nPo zakończonym szkoleniu przewidziany jest test pisemny dla uczestników\, weryfikujący nabytą wiedzę. \nPotwierdzenie kwalifikacji\nPo szkoleniu otrzymają Państwo eCertyfikat kwalifikacji VDA QMC. \nEfekty kształcenia \n\nZrozumienie ogólnych wymagań i zasad VDA 6.8.\nUmiejętność stosowania w praktyce katalogu pytań\, używając elementów procesu (L1-L7).\n\nSzkolenia powiązane(ID 961) - VDA 6.8 – Auditor procesu łańcucha dostaw – kurs kwalifikacyjny(ID 962) - VDA 6.8 – Auditor procesu łańcucha dostaw  – egzaminCena zawieraMateriały szkoleniowe w wersji PDF\, wydanie certyfikatu.
URL:https://sqda.pl/szkolenie/szkolenie-okresowe-w-zakresie-bezpieczenstwa-i-higieny-pracy-dla-pracownikow-sluzby-bhp-i-osob-wykonujacych-zadania-tej-sluzby-szkolenie-online-id-3028-10/
LOCATION:Szkolenie w systemie online
CATEGORIES:Bezpieczeństwo pracy
ORGANIZER;CN="Szkolenia OHS":MAILTO:szkolenia.ohs@sqda.pl
END:VEVENT
BEGIN:VEVENT
DTSTART;TZID=Europe/Warsaw:20260825T090000
DTEND;TZID=Europe/Warsaw:20260825T130000
DTSTAMP:20260422T174933
CREATED:20260414T064107Z
LAST-MODIFIED:20260417T080706Z
UID:77704-1787648400-1787662800@sqda.pl
SUMMARY:Szkolenie aktualizacyjne VDA 19.1 (2026) (ID 981)
DESCRIPTION:
URL:https://sqda.pl/szkolenie/szkolenie-aktualizacyjne-vda-19-1-2026-id-981-2/
LOCATION:Biuro SQD Alliance w Ligocie (koło Bielska-Białej)\, ul. Koło 1\, Ligota (koło Bielska-Białej)\, śląskie\, 43-518\, Poland
ORGANIZER;CN="SQD Alliance - Szkolenia":MAILTO:szkolenia@sqda.pl
END:VEVENT
BEGIN:VEVENT
DTSTART;TZID=Europe/Warsaw:20260826T090000
DTEND;TZID=Europe/Warsaw:20260827T160000
DTSTAMP:20260422T174933
CREATED:20260414T064753Z
LAST-MODIFIED:20260414T064753Z
UID:77713-1787734800-1787846400@sqda.pl
SUMMARY:VDA 19.1 – Szkolenie na wykwalifikowanego asystenta kontroli czystości technicznej  w przemyśle motoryzacyjnym (ID 973)
DESCRIPTION:Opis szkolenia\nPodczas szkolenia omawiane są podstawowe informacje dotyczące auditów procesu w łańcuchu dostaw według VDA 6.8\, z uwzględnieniem podejścia procesowego i analizy ryzyka w branży motoryzacyjnej. \nUczestnicy dowiedzą się\, jakie wymagania są istotne w obszarach zarządzania projektami\, planowania i realizacji\, zarządzania dostawcami\, zaopatrzenia\, transportu\, logistyki magazynowej oraz relacji z klientami\, a także jak te wymagania mogą być wdrożone w praktyce. \nGrupa docelowa\nSzkolenie przeznaczone jest dla auditorów procesu VDA 6.3 z doświadczeniem zawodowym w obszarze działalności związanych z logistyką\, którzy chcą w przyszłości przeprowadzać audity wg VDA 6.8. \nZawartość\n\nPorównanie VDA 6.8 z innymi wymaganiami.\nOmówienie struktury wymagań.\nUżycie katalogów L1 do L7.\nSchemat oceny.\nPoszczególne elementy omawiane na podstawie ćwiczeń.\n\nLiteratura\n\nVDA 6.8\n\nWymagania wstępne\n\n\nMinimum 3 lata doświadczenia zawodowego w przemyśle\, w tym co najmniej 1 rok w obszarze działalności związanych z logistyką. \nUwaga: Pozytywne ukończenie testu po szkoleniu pozwala uzyskać certyfikat auditora wewnętrznego procesu VDA 6.8\, aby uzyskać uprawnienia auditora zewnętrznego procesu VDA 6.8 należy zdać egzamin (ID 962).\n\nEgzamin/test\nPo zakończonym szkoleniu przewidziany jest test pisemny dla uczestników\, weryfikujący nabytą wiedzę. \nPotwierdzenie kwalifikacji\nPo szkoleniu otrzymają Państwo eCertyfikat kwalifikacji VDA QMC. \nEfekty kształcenia \n\nZrozumienie ogólnych wymagań i zasad VDA 6.8.\nUmiejętność stosowania w praktyce katalogu pytań\, używając elementów procesu (L1-L7).\n\nSzkolenia powiązane(ID 961) - VDA 6.8 – Auditor procesu łańcucha dostaw – kurs kwalifikacyjny(ID 962) - VDA 6.8 – Auditor procesu łańcucha dostaw  – egzaminCena zawieraMateriały szkoleniowe w wersji PDF\, wydanie certyfikatu.
URL:https://sqda.pl/szkolenie/vda-19-1-szkolenie-na-wykwalifikowanego-asystenta-kontroli-czystosci-technicznej-w-przemysle-motoryzacyjnym-id-973-18/
LOCATION:Szkolenie w systemie online
CATEGORIES:Auditowanie,Podręcznik gratis
ORGANIZER;CN="SQD Alliance - Szkolenia":MAILTO:szkolenia@sqda.pl
END:VEVENT
BEGIN:VEVENT
DTSTART;TZID=Europe/Warsaw:20260826T100000
DTEND;TZID=Europe/Warsaw:20260826T150000
DTSTAMP:20260422T174933
CREATED:20251205T135221Z
LAST-MODIFIED:20251205T135702Z
UID:75675-1787738400-1787756400@sqda.pl
SUMMARY:Poprawne postępowanie powypadkowe - szkolenie online (ID 3105)
DESCRIPTION:Opis szkolenia\nPodczas szkolenia omawiane są podstawowe informacje dotyczące auditów procesu w łańcuchu dostaw według VDA 6.8\, z uwzględnieniem podejścia procesowego i analizy ryzyka w branży motoryzacyjnej. \nUczestnicy dowiedzą się\, jakie wymagania są istotne w obszarach zarządzania projektami\, planowania i realizacji\, zarządzania dostawcami\, zaopatrzenia\, transportu\, logistyki magazynowej oraz relacji z klientami\, a także jak te wymagania mogą być wdrożone w praktyce. \nGrupa docelowa\nSzkolenie przeznaczone jest dla auditorów procesu VDA 6.3 z doświadczeniem zawodowym w obszarze działalności związanych z logistyką\, którzy chcą w przyszłości przeprowadzać audity wg VDA 6.8. \nZawartość\n\nPorównanie VDA 6.8 z innymi wymaganiami.\nOmówienie struktury wymagań.\nUżycie katalogów L1 do L7.\nSchemat oceny.\nPoszczególne elementy omawiane na podstawie ćwiczeń.\n\nLiteratura\n\nVDA 6.8\n\nWymagania wstępne\n\n\nMinimum 3 lata doświadczenia zawodowego w przemyśle\, w tym co najmniej 1 rok w obszarze działalności związanych z logistyką. \nUwaga: Pozytywne ukończenie testu po szkoleniu pozwala uzyskać certyfikat auditora wewnętrznego procesu VDA 6.8\, aby uzyskać uprawnienia auditora zewnętrznego procesu VDA 6.8 należy zdać egzamin (ID 962).\n\nEgzamin/test\nPo zakończonym szkoleniu przewidziany jest test pisemny dla uczestników\, weryfikujący nabytą wiedzę. \nPotwierdzenie kwalifikacji\nPo szkoleniu otrzymają Państwo eCertyfikat kwalifikacji VDA QMC. \nEfekty kształcenia \n\nZrozumienie ogólnych wymagań i zasad VDA 6.8.\nUmiejętność stosowania w praktyce katalogu pytań\, używając elementów procesu (L1-L7).\n\nSzkolenia powiązane(ID 961) - VDA 6.8 – Auditor procesu łańcucha dostaw – kurs kwalifikacyjny(ID 962) - VDA 6.8 – Auditor procesu łańcucha dostaw  – egzaminCena zawieraMateriały szkoleniowe w wersji PDF\, wydanie certyfikatu.
URL:https://sqda.pl/szkolenie/poprawne-postepowanie-powypadkowe-szkolenie-online-id-3105-7/
LOCATION:Szkolenie w systemie online
CATEGORIES:Bezpieczeństwo pracy
ORGANIZER;CN="Szkolenia OHS":MAILTO:szkolenia.ohs@sqda.pl
END:VEVENT
BEGIN:VEVENT
DTSTART;TZID=Europe/Warsaw:20260827T090000
DTEND;TZID=Europe/Warsaw:20260828T160000
DTSTAMP:20260422T174933
CREATED:20260422T105605Z
LAST-MODIFIED:20260422T105605Z
UID:77927-1787821200-1787932800@sqda.pl
SUMMARY:Zarządzanie specyficznymi wymaganiami klientów. Warsztaty na bazie wymagań BMW w połączeniu z obsługą portalu B2B  (ID 9402)
DESCRIPTION:
URL:https://sqda.pl/szkolenie/zarzadzanie-specyficznymi-wymaganiami-klientow-warsztaty-na-bazie-wymagan-bmw-w-polaczeniu-z-obsluga-portalu-b2b-id-9402/
LOCATION:Pszczyna/Biuro SQD Alliance w Ligocie (koło Bielska-Białej)\, Pszczyna / Ligota\, Poland
ORGANIZER;CN="SQD Alliance - Szkolenia":MAILTO:szkolenia@sqda.pl
END:VEVENT
BEGIN:VEVENT
DTSTART;TZID=Europe/Warsaw:20260827T103000
DTEND;TZID=Europe/Warsaw:20260827T143000
DTSTAMP:20260422T174933
CREATED:20251208T132916Z
LAST-MODIFIED:20251208T132958Z
UID:75697-1787826600-1787841000@sqda.pl
SUMMARY:Wybrane regulacje prawne z zakresu prawa pracy\, dotyczące bezpieczeństwa i higieny pracy\, z uwzględnieniem najnowszych zmian w Kodeksie pracy (ID 3214) - szkolenie online
DESCRIPTION:Opis szkolenia\nPodczas szkolenia omawiane są podstawowe informacje dotyczące auditów procesu w łańcuchu dostaw według VDA 6.8\, z uwzględnieniem podejścia procesowego i analizy ryzyka w branży motoryzacyjnej. \nUczestnicy dowiedzą się\, jakie wymagania są istotne w obszarach zarządzania projektami\, planowania i realizacji\, zarządzania dostawcami\, zaopatrzenia\, transportu\, logistyki magazynowej oraz relacji z klientami\, a także jak te wymagania mogą być wdrożone w praktyce. \nGrupa docelowa\nSzkolenie przeznaczone jest dla auditorów procesu VDA 6.3 z doświadczeniem zawodowym w obszarze działalności związanych z logistyką\, którzy chcą w przyszłości przeprowadzać audity wg VDA 6.8. \nZawartość\n\nPorównanie VDA 6.8 z innymi wymaganiami.\nOmówienie struktury wymagań.\nUżycie katalogów L1 do L7.\nSchemat oceny.\nPoszczególne elementy omawiane na podstawie ćwiczeń.\n\nLiteratura\n\nVDA 6.8\n\nWymagania wstępne\n\n\nMinimum 3 lata doświadczenia zawodowego w przemyśle\, w tym co najmniej 1 rok w obszarze działalności związanych z logistyką. \nUwaga: Pozytywne ukończenie testu po szkoleniu pozwala uzyskać certyfikat auditora wewnętrznego procesu VDA 6.8\, aby uzyskać uprawnienia auditora zewnętrznego procesu VDA 6.8 należy zdać egzamin (ID 962).\n\nEgzamin/test\nPo zakończonym szkoleniu przewidziany jest test pisemny dla uczestników\, weryfikujący nabytą wiedzę. \nPotwierdzenie kwalifikacji\nPo szkoleniu otrzymają Państwo eCertyfikat kwalifikacji VDA QMC. \nEfekty kształcenia \n\nZrozumienie ogólnych wymagań i zasad VDA 6.8.\nUmiejętność stosowania w praktyce katalogu pytań\, używając elementów procesu (L1-L7).\n\nSzkolenia powiązane(ID 961) - VDA 6.8 – Auditor procesu łańcucha dostaw – kurs kwalifikacyjny(ID 962) - VDA 6.8 – Auditor procesu łańcucha dostaw  – egzaminCena zawieraMateriały szkoleniowe w wersji PDF\, wydanie certyfikatu.
URL:https://sqda.pl/szkolenie/wybrane-regulacje-prawne-z-zakresu-prawa-pracy-dotyczace-bezpieczenstwa-i-higieny-pracy-z-uwzglednieniem-najnowszych-zmian-w-kodeksie-pracy-id-3214-szkolenie-online-12/
LOCATION:Szkolenie w systemie online
CATEGORIES:Bezpieczeństwo pracy
ORGANIZER;CN="Szkolenia OHS":MAILTO:szkolenia.ohs@sqda.pl
END:VEVENT
BEGIN:VEVENT
DTSTART;TZID=Europe/Warsaw:20260828T090000
DTEND;TZID=Europe/Warsaw:20260828T150000
DTSTAMP:20260422T174933
CREATED:20260225T085350Z
LAST-MODIFIED:20260225T085350Z
UID:76953-1787907600-1787929200@sqda.pl
SUMMARY:Odpowiedzialność środowiskowa w łańcuchu dostaw (ID 3315)
DESCRIPTION:
URL:https://sqda.pl/szkolenie/odpowiedzialnosc-srodowiskowa-w-lancuchu-dostaw-id-3315-2/
LOCATION:Szkolenie w systemie online
ORGANIZER;CN="Szkolenia OHS":MAILTO:szkolenia.ohs@sqda.pl
END:VEVENT
BEGIN:VEVENT
DTSTART;TZID=Europe/Warsaw:20260828T090000
DTEND;TZID=Europe/Warsaw:20260828T160000
DTSTAMP:20260422T174933
CREATED:20251105T130136Z
LAST-MODIFIED:20260401T114544Z
UID:75171-1787907600-1787932800@sqda.pl
SUMMARY:VDA 6.3:2023 – Auditor procesu – egzamin (ID 382)
DESCRIPTION:Opis szkolenia\nPodczas szkolenia omawiane są podstawowe informacje dotyczące auditów procesu w łańcuchu dostaw według VDA 6.8\, z uwzględnieniem podejścia procesowego i analizy ryzyka w branży motoryzacyjnej. \nUczestnicy dowiedzą się\, jakie wymagania są istotne w obszarach zarządzania projektami\, planowania i realizacji\, zarządzania dostawcami\, zaopatrzenia\, transportu\, logistyki magazynowej oraz relacji z klientami\, a także jak te wymagania mogą być wdrożone w praktyce. \nGrupa docelowa\nSzkolenie przeznaczone jest dla auditorów procesu VDA 6.3 z doświadczeniem zawodowym w obszarze działalności związanych z logistyką\, którzy chcą w przyszłości przeprowadzać audity wg VDA 6.8. \nZawartość\n\nPorównanie VDA 6.8 z innymi wymaganiami.\nOmówienie struktury wymagań.\nUżycie katalogów L1 do L7.\nSchemat oceny.\nPoszczególne elementy omawiane na podstawie ćwiczeń.\n\nLiteratura\n\nVDA 6.8\n\nWymagania wstępne\n\n\nMinimum 3 lata doświadczenia zawodowego w przemyśle\, w tym co najmniej 1 rok w obszarze działalności związanych z logistyką. \nUwaga: Pozytywne ukończenie testu po szkoleniu pozwala uzyskać certyfikat auditora wewnętrznego procesu VDA 6.8\, aby uzyskać uprawnienia auditora zewnętrznego procesu VDA 6.8 należy zdać egzamin (ID 962).\n\nEgzamin/test\nPo zakończonym szkoleniu przewidziany jest test pisemny dla uczestników\, weryfikujący nabytą wiedzę. \nPotwierdzenie kwalifikacji\nPo szkoleniu otrzymają Państwo eCertyfikat kwalifikacji VDA QMC. \nEfekty kształcenia \n\nZrozumienie ogólnych wymagań i zasad VDA 6.8.\nUmiejętność stosowania w praktyce katalogu pytań\, używając elementów procesu (L1-L7).\n\nSzkolenia powiązane(ID 961) - VDA 6.8 – Auditor procesu łańcucha dostaw – kurs kwalifikacyjny(ID 962) - VDA 6.8 – Auditor procesu łańcucha dostaw  – egzaminCena zawieraMateriały szkoleniowe w wersji PDF\, wydanie certyfikatu.
URL:https://sqda.pl/szkolenie/vda-6-32023-auditor-procesu-egzamin-id-382-47/
LOCATION:Szkolenie w systemie online
CATEGORIES:Auditowanie
ORGANIZER;CN="SQD Alliance - Szkolenia":MAILTO:szkolenia@sqda.pl
END:VEVENT
BEGIN:VEVENT
DTSTART;TZID=Europe/Warsaw:20260828T100000
DTEND;TZID=Europe/Warsaw:20260828T140000
DTSTAMP:20260422T174933
CREATED:20251208T133539Z
LAST-MODIFIED:20251208T133539Z
UID:75716-1787911200-1787925600@sqda.pl
SUMMARY:Ergonomia jako narzędzie ochrony zdrowia pracowników (ID 3027)
DESCRIPTION:Opis szkolenia\nPodczas szkolenia omawiane są podstawowe informacje dotyczące auditów procesu w łańcuchu dostaw według VDA 6.8\, z uwzględnieniem podejścia procesowego i analizy ryzyka w branży motoryzacyjnej. \nUczestnicy dowiedzą się\, jakie wymagania są istotne w obszarach zarządzania projektami\, planowania i realizacji\, zarządzania dostawcami\, zaopatrzenia\, transportu\, logistyki magazynowej oraz relacji z klientami\, a także jak te wymagania mogą być wdrożone w praktyce. \nGrupa docelowa\nSzkolenie przeznaczone jest dla auditorów procesu VDA 6.3 z doświadczeniem zawodowym w obszarze działalności związanych z logistyką\, którzy chcą w przyszłości przeprowadzać audity wg VDA 6.8. \nZawartość\n\nPorównanie VDA 6.8 z innymi wymaganiami.\nOmówienie struktury wymagań.\nUżycie katalogów L1 do L7.\nSchemat oceny.\nPoszczególne elementy omawiane na podstawie ćwiczeń.\n\nLiteratura\n\nVDA 6.8\n\nWymagania wstępne\n\n\nMinimum 3 lata doświadczenia zawodowego w przemyśle\, w tym co najmniej 1 rok w obszarze działalności związanych z logistyką. \nUwaga: Pozytywne ukończenie testu po szkoleniu pozwala uzyskać certyfikat auditora wewnętrznego procesu VDA 6.8\, aby uzyskać uprawnienia auditora zewnętrznego procesu VDA 6.8 należy zdać egzamin (ID 962).\n\nEgzamin/test\nPo zakończonym szkoleniu przewidziany jest test pisemny dla uczestników\, weryfikujący nabytą wiedzę. \nPotwierdzenie kwalifikacji\nPo szkoleniu otrzymają Państwo eCertyfikat kwalifikacji VDA QMC. \nEfekty kształcenia \n\nZrozumienie ogólnych wymagań i zasad VDA 6.8.\nUmiejętność stosowania w praktyce katalogu pytań\, używając elementów procesu (L1-L7).\n\nSzkolenia powiązane(ID 961) - VDA 6.8 – Auditor procesu łańcucha dostaw – kurs kwalifikacyjny(ID 962) - VDA 6.8 – Auditor procesu łańcucha dostaw  – egzaminCena zawieraMateriały szkoleniowe w wersji PDF\, wydanie certyfikatu.
URL:https://sqda.pl/szkolenie/ergonomia-jako-narzedzie-ochrony-zdrowia-pracownikow-id-3027-14/
LOCATION:Szkolenie w systemie online
CATEGORIES:Bezpieczeństwo pracy
ORGANIZER;CN="Szkolenia OHS":MAILTO:szkolenia.ohs@sqda.pl
END:VEVENT
BEGIN:VEVENT
DTSTART;TZID=Europe/Warsaw:20260831T090000
DTEND;TZID=Europe/Warsaw:20260831T160000
DTSTAMP:20260422T174933
CREATED:20251022T085305Z
LAST-MODIFIED:20260410T062120Z
UID:74737-1788166800-1788192000@sqda.pl
SUMMARY:VDA 6.8 dla auditorów procesu VDA 6.3 (ID 966)
DESCRIPTION:
URL:https://sqda.pl/szkolenie/vda-6-8-dla-auditorow-procesu-vda-6-3-id-966-4/
LOCATION:Szkolenie w systemie online
ORGANIZER;CN="SQD Alliance - Szkolenia":MAILTO:szkolenia@sqda.pl
END:VEVENT
END:VCALENDAR